BEGIN:VCALENDAR
VERSION:2.0
PRODID:-//Sensaphoto fotografía deportiva - ECPv6.6.2//NONSGML v1.0//EN
CALSCALE:GREGORIAN
METHOD:PUBLISH
X-WR-CALNAME:Sensaphoto fotografía deportiva
X-ORIGINAL-URL:https://sensaphoto.com
X-WR-CALDESC:Eventos para Sensaphoto fotografía deportiva
REFRESH-INTERVAL;VALUE=DURATION:PT1H
X-Robots-Tag:noindex
X-PUBLISHED-TTL:PT1H
BEGIN:VTIMEZONE
TZID:Europe/Madrid
BEGIN:DAYLIGHT
TZOFFSETFROM:+0100
TZOFFSETTO:+0200
TZNAME:CEST
DTSTART:20250330T010000
END:DAYLIGHT
BEGIN:STANDARD
TZOFFSETFROM:+0200
TZOFFSETTO:+0100
TZNAME:CET
DTSTART:20251026T010000
END:STANDARD
END:VTIMEZONE
BEGIN:VEVENT
DTSTART;VALUE=DATE:20250808
DTEND;VALUE=DATE:20250811
DTSTAMP:20260422T010005
CREATED:20250314T101531Z
LAST-MODIFIED:20250314T101531Z
UID:1492-1754611200-1754870399@sensaphoto.com
SUMMARY:Circuito de Magny Cours – Eybis
DESCRIPTION:Evento organizado por la empresa Eybis en el circuito de Magny-Cours.
URL:https://sensaphoto.com/evento/circuito-de-magny-cours-eybis-2/
LOCATION:Circuito de Magny Cours\, Technopôle\, CS 80001 F-58471\, Magny Cours\, 58471\, Francia
END:VEVENT
END:VCALENDAR