BEGIN:VCALENDAR
VERSION:2.0
PRODID:-//Sensaphoto fotografía deportiva - ECPv6.6.2//NONSGML v1.0//EN
CALSCALE:GREGORIAN
METHOD:PUBLISH
X-ORIGINAL-URL:https://sensaphoto.com
X-WR-CALDESC:Eventos para Sensaphoto fotografía deportiva
REFRESH-INTERVAL;VALUE=DURATION:PT1H
X-Robots-Tag:noindex
X-PUBLISHED-TTL:PT1H
BEGIN:VTIMEZONE
TZID:Europe/Madrid
BEGIN:DAYLIGHT
TZOFFSETFROM:+0100
TZOFFSETTO:+0200
TZNAME:CEST
DTSTART:20250330T010000
END:DAYLIGHT
BEGIN:STANDARD
TZOFFSETFROM:+0200
TZOFFSETTO:+0100
TZNAME:CET
DTSTART:20251026T010000
END:STANDARD
END:VTIMEZONE
BEGIN:VEVENT
DTSTART;VALUE=DATE:20250816
DTEND;VALUE=DATE:20250818
DTSTAMP:20260422T024143
CREATED:20250314T101631Z
LAST-MODIFIED:20250314T101631Z
UID:1494-1755302400-1755475199@sensaphoto.com
SUMMARY:Circuito de Portimao – MotorExtremo
DESCRIPTION:Evento organizado por la empresa MotorExtremo en el circuito de Portimao.
URL:https://sensaphoto.com/evento/circuito-de-portimao-motorextremo/
LOCATION:Circuito de Portimao\, Mexilhoeira Grande\, Portimao\, 8500-148\, Portugal
ORGANIZER;CN="Motor Extremo":MAILTO:reservas@motorextremo.es
END:VEVENT
END:VCALENDAR