BEGIN:VCALENDAR
VERSION:2.0
PRODID:-//Sensaphoto fotografía deportiva - ECPv6.6.2//NONSGML v1.0//EN
CALSCALE:GREGORIAN
METHOD:PUBLISH
X-ORIGINAL-URL:https://sensaphoto.com
X-WR-CALDESC:Eventos para Sensaphoto fotografía deportiva
REFRESH-INTERVAL;VALUE=DURATION:PT1H
X-Robots-Tag:noindex
X-PUBLISHED-TTL:PT1H
BEGIN:VTIMEZONE
TZID:Europe/Madrid
BEGIN:DAYLIGHT
TZOFFSETFROM:+0100
TZOFFSETTO:+0200
TZNAME:CEST
DTSTART:20240331T010000
END:DAYLIGHT
BEGIN:STANDARD
TZOFFSETFROM:+0200
TZOFFSETTO:+0100
TZNAME:CET
DTSTART:20241027T010000
END:STANDARD
END:VTIMEZONE
BEGIN:VEVENT
DTSTART;VALUE=DATE:20240510
DTEND;VALUE=DATE:20240511
DTSTAMP:20260423T115204
CREATED:20231226T120907Z
LAST-MODIFIED:20231226T120907Z
UID:1211-1715299200-1715385599@sensaphoto.com
SUMMARY:Circuito de Almería – MotorExtemo
DESCRIPTION:Evento organizado por la empresa MotorExtremo en el circuito de Almería el día 10 de Mayo del 2024.
URL:https://sensaphoto.com/evento/circuito-de-almeria-motorextemo-2/
LOCATION:Circuito de Almeria\, Tabernas\, Almería\, 04200\, España
CATEGORIES:Circuitos
ATTACH;FMTTYPE=image/jpeg:https://sensaphoto.com/wp-content/uploads/2023/12/AAE3554-scaled.jpg
ORGANIZER;CN="Motor Extremo":MAILTO:reservas@motorextremo.es
END:VEVENT
BEGIN:VEVENT
DTSTART;VALUE=DATE:20240511
DTEND;VALUE=DATE:20240512
DTSTAMP:20260423T115204
CREATED:20231226T121109Z
LAST-MODIFIED:20231226T121109Z
UID:1214-1715385600-1715471999@sensaphoto.com
SUMMARY:Circuito de Almería – MotorExtemo
DESCRIPTION:Evento organizado por la empresa MotorExtremo en el circuito de Almería el día 11 de Mayo del 2024.
URL:https://sensaphoto.com/evento/circuito-de-almeria-motorextemo-3/
LOCATION:Circuito de Almeria\, Tabernas\, Almería\, 04200\, España
CATEGORIES:Circuitos
ATTACH;FMTTYPE=image/jpeg:https://sensaphoto.com/wp-content/uploads/2023/12/AAE6578-scaled.jpg
END:VEVENT
BEGIN:VEVENT
DTSTART;VALUE=DATE:20240517
DTEND;VALUE=DATE:20240518
DTSTAMP:20260423T115204
CREATED:20231226T121422Z
LAST-MODIFIED:20231226T121640Z
UID:1222-1715904000-1715990399@sensaphoto.com
SUMMARY:Circuito de Almería – MotorExtemo
DESCRIPTION:Evento organizado por la empresa MotorExtremo en el circuito de Almería el día 17 de Mayo del 2024.
URL:https://sensaphoto.com/evento/circuito-de-almeria-motorextemo-5/
LOCATION:Circuito de Almeria\, Tabernas\, Almería\, 04200\, España
CATEGORIES:Circuitos
ATTACH;FMTTYPE=image/jpeg:https://sensaphoto.com/wp-content/uploads/2023/12/JLR5320-scaled.jpg
ORGANIZER;CN="Motor Extremo":MAILTO:reservas@motorextremo.es
END:VEVENT
BEGIN:VEVENT
DTSTART;VALUE=DATE:20240518
DTEND;VALUE=DATE:20240519
DTSTAMP:20260423T115204
CREATED:20231226T121605Z
LAST-MODIFIED:20231226T121605Z
UID:1225-1715990400-1716076799@sensaphoto.com
SUMMARY:Circuito de Almería – MotorExtemo
DESCRIPTION:Evento organizado por la empresa MotorExtremo en el circuito de Almería el día 18 de Mayo del 2024.
URL:https://sensaphoto.com/evento/circuito-de-almeria-motorextemo-6/
LOCATION:Circuito de Almeria\, Tabernas\, Almería\, 04200\, España
CATEGORIES:Circuitos
ATTACH;FMTTYPE=image/jpeg:https://sensaphoto.com/wp-content/uploads/2023/12/JLR5760-scaled.jpg
ORGANIZER;CN="Motor Extremo":MAILTO:reservas@motorextremo.es
END:VEVENT
BEGIN:VEVENT
DTSTART;VALUE=DATE:20240518
DTEND;VALUE=DATE:20240519
DTSTAMP:20260423T115204
CREATED:20231226T122101Z
LAST-MODIFIED:20231226T122101Z
UID:1231-1715990400-1716076799@sensaphoto.com
SUMMARY:Circuito de Andalucía – MotorExtemo
DESCRIPTION:Evento organizado por la empresa MotorExtremo en el circuito de Andalucía el día 18 de Mayo del 2024.
URL:https://sensaphoto.com/evento/circuito-de-andalucia-motorextemo/
LOCATION:Circuito de Andalucía\, Tabernas\, Almería\, España
CATEGORIES:Circuitos
ATTACH;FMTTYPE=image/jpeg:https://sensaphoto.com/wp-content/uploads/2023/12/JLR5990-scaled.jpg
ORGANIZER;CN="Motor Extremo":MAILTO:reservas@motorextremo.es
END:VEVENT
BEGIN:VEVENT
DTSTART;VALUE=DATE:20240519
DTEND;VALUE=DATE:20240520
DTSTAMP:20260423T115204
CREATED:20231226T121842Z
LAST-MODIFIED:20231226T121842Z
UID:1228-1716076800-1716163199@sensaphoto.com
SUMMARY:Circuito de Almería – MotorExtemo
DESCRIPTION:Evento organizado por la empresa MotorExtremo en el circuito de Almería el día 19 de Mayo del 2024.
URL:https://sensaphoto.com/evento/circuito-de-almeria-motorextemo-7/
LOCATION:Circuito de Almeria\, Tabernas\, Almería\, 04200\, España
CATEGORIES:Circuitos
ATTACH;FMTTYPE=image/jpeg:https://sensaphoto.com/wp-content/uploads/2023/12/JLR8823-scaled.jpg
ORGANIZER;CN="Motor Extremo":MAILTO:reservas@motorextremo.es
END:VEVENT
BEGIN:VEVENT
DTSTART;VALUE=DATE:20240519
DTEND;VALUE=DATE:20240520
DTSTAMP:20260423T115204
CREATED:20231226T122241Z
LAST-MODIFIED:20231226T122312Z
UID:1234-1716076800-1716163199@sensaphoto.com
SUMMARY:Circuito de Andalucía – MotorExtemo
DESCRIPTION:Evento organizado por la empresa MotorExtremo en el circuito de Andalucía el día 19 de Mayo del 2024.
URL:https://sensaphoto.com/evento/circuito-de-andalucia-motorextemo-2/
LOCATION:Circuito de Andalucía\, Tabernas\, Almería\, España
CATEGORIES:Circuitos
ATTACH;FMTTYPE=image/jpeg:https://sensaphoto.com/wp-content/uploads/2023/12/JLR4815-scaled.jpg
ORGANIZER;CN="Motor Extremo":MAILTO:reservas@motorextremo.es
END:VEVENT
BEGIN:VEVENT
DTSTART;VALUE=DATE:20240526
DTEND;VALUE=DATE:20240527
DTSTAMP:20260423T115204
CREATED:20231226T122538Z
LAST-MODIFIED:20231226T122538Z
UID:1238-1716681600-1716767999@sensaphoto.com
SUMMARY:Circuito de Sevilla – MotorExtemo
DESCRIPTION:Evento organizado por la empresa MotorExtremo en el circuito de Sevilla el día 26 de Mayo del 2024.
URL:https://sensaphoto.com/evento/circuito-de-sevilla-motorextemo/
LOCATION:Circuito de Sevilla\, Carretera SE-3201\, Carmona\, Sevilla\, 41410\, España
CATEGORIES:Circuitos
ATTACH;FMTTYPE=image/jpeg:https://sensaphoto.com/wp-content/uploads/2023/12/JLR7494-scaled.jpg
ORGANIZER;CN="Motor Extremo":MAILTO:reservas@motorextremo.es
END:VEVENT
END:VCALENDAR