BEGIN:VCALENDAR
VERSION:2.0
PRODID:-//Sensaphoto fotografía deportiva - ECPv6.6.2//NONSGML v1.0//EN
CALSCALE:GREGORIAN
METHOD:PUBLISH
X-ORIGINAL-URL:https://sensaphoto.com
X-WR-CALDESC:Eventos para Sensaphoto fotografía deportiva
REFRESH-INTERVAL;VALUE=DURATION:PT1H
X-Robots-Tag:noindex
X-PUBLISHED-TTL:PT1H
BEGIN:VTIMEZONE
TZID:Europe/Madrid
BEGIN:DAYLIGHT
TZOFFSETFROM:+0100
TZOFFSETTO:+0200
TZNAME:CEST
DTSTART:20240331T010000
END:DAYLIGHT
BEGIN:STANDARD
TZOFFSETFROM:+0200
TZOFFSETTO:+0100
TZNAME:CET
DTSTART:20241027T010000
END:STANDARD
END:VTIMEZONE
BEGIN:VEVENT
DTSTART;VALUE=DATE:20240301
DTEND;VALUE=DATE:20240304
DTSTAMP:20260423T162413
CREATED:20231222T105401Z
LAST-MODIFIED:20231222T105401Z
UID:1136-1709251200-1709510399@sensaphoto.com
SUMMARY:Circuito de Cartagena – Biosan
DESCRIPTION:Evento organizado por empresa Biosan en el circuito de Cartagena durante los días 1 y 3 de Marzo del 2024.
URL:https://sensaphoto.com/evento/circuito-de-cartagena-biosan-2/
LOCATION:Circuito de Cartagena\, Ctra. A la Aljorra\, Km 2\, 600\, Cartagena\, Murcia\, 30391\, España
CATEGORIES:Circuitos
ATTACH;FMTTYPE=image/jpeg:https://sensaphoto.com/wp-content/uploads/2023/12/ALM7206-scaled.jpg
END:VEVENT
END:VCALENDAR