BEGIN:VCALENDAR
VERSION:2.0
PRODID:-//Sensaphoto fotografía deportiva - ECPv6.6.2//NONSGML v1.0//EN
CALSCALE:GREGORIAN
METHOD:PUBLISH
X-WR-CALNAME:Sensaphoto fotografía deportiva
X-ORIGINAL-URL:https://sensaphoto.com
X-WR-CALDESC:Eventos para Sensaphoto fotografía deportiva
REFRESH-INTERVAL;VALUE=DURATION:PT1H
X-Robots-Tag:noindex
X-PUBLISHED-TTL:PT1H
BEGIN:VTIMEZONE
TZID:Europe/Madrid
BEGIN:DAYLIGHT
TZOFFSETFROM:+0100
TZOFFSETTO:+0200
TZNAME:CEST
DTSTART:20250330T010000
END:DAYLIGHT
BEGIN:STANDARD
TZOFFSETFROM:+0200
TZOFFSETTO:+0100
TZNAME:CET
DTSTART:20251026T010000
END:STANDARD
END:VTIMEZONE
BEGIN:VEVENT
DTSTART;VALUE=DATE:20250929
DTEND;VALUE=DATE:20251002
DTSTAMP:20260421T234051
CREATED:20250314T102734Z
LAST-MODIFIED:20250314T102734Z
UID:1519-1759104000-1759363199@sensaphoto.com
SUMMARY:Circuito de Jerez – RedLine
DESCRIPTION:Evento organizado por la empresa RedLine en el circuito de Jerez.
URL:https://sensaphoto.com/evento/circuito-de-jerez-redline/
LOCATION:Circuito de Jerez\, Carretera de Arcos-Jerez de la Frontera\, Km. 10\, Jerez de la Frontera\, Cádiz\, 11405\, España
ORGANIZER;CN="RedLine":MAILTO:redlinetrackdays@outlook.com
END:VEVENT
END:VCALENDAR