BEGIN:VCALENDAR
VERSION:2.0
PRODID:-//Sensaphoto fotografía deportiva - ECPv6.6.2//NONSGML v1.0//EN
CALSCALE:GREGORIAN
METHOD:PUBLISH
X-ORIGINAL-URL:https://sensaphoto.com
X-WR-CALDESC:Eventos para Sensaphoto fotografía deportiva
REFRESH-INTERVAL;VALUE=DURATION:PT1H
X-Robots-Tag:noindex
X-PUBLISHED-TTL:PT1H
BEGIN:VTIMEZONE
TZID:Europe/Madrid
BEGIN:DAYLIGHT
TZOFFSETFROM:+0100
TZOFFSETTO:+0200
TZNAME:CEST
DTSTART:20250330T010000
END:DAYLIGHT
BEGIN:STANDARD
TZOFFSETFROM:+0200
TZOFFSETTO:+0100
TZNAME:CET
DTSTART:20251026T010000
END:STANDARD
END:VTIMEZONE
BEGIN:VEVENT
DTSTART;VALUE=DATE:20250919
DTEND;VALUE=DATE:20250922
DTSTAMP:20260422T025513
CREATED:20250314T102539Z
LAST-MODIFIED:20250314T102539Z
UID:1515-1758240000-1758499199@sensaphoto.com
SUMMARY:Circuito de Sevilla – MotorExtremo
DESCRIPTION:Evento organizado por la empresa MotorExtremo en el circuito de Sevilla.
URL:https://sensaphoto.com/evento/circuito-de-sevilla-motorextremo-10/
LOCATION:Circuito de Sevilla\, Carretera SE-3201\, Carmona\, Sevilla\, 41410\, España
ORGANIZER;CN="Motor Extremo":MAILTO:reservas@motorextremo.es
END:VEVENT
BEGIN:VEVENT
DTSTART;VALUE=DATE:20250922
DTEND;VALUE=DATE:20250924
DTSTAMP:20260422T025513
CREATED:20250314T102448Z
LAST-MODIFIED:20250314T102448Z
UID:1513-1758499200-1758671999@sensaphoto.com
SUMMARY:Circuito de Portimao – Eybis
DESCRIPTION:Evento organizado por la empresa Eybis en el circuito de Portiamo.
URL:https://sensaphoto.com/evento/circuito-de-portimao-eybis/
LOCATION:Circuito de Portimao\, Mexilhoeira Grande\, Portimao\, 8500-148\, Portugal
END:VEVENT
BEGIN:VEVENT
DTSTART;VALUE=DATE:20250926
DTEND;VALUE=DATE:20250929
DTSTAMP:20260422T025513
CREATED:20250314T102619Z
LAST-MODIFIED:20250314T102619Z
UID:1517-1758844800-1759103999@sensaphoto.com
SUMMARY:Circuito de Almería – MotorExtremo
DESCRIPTION:Evento organizado por la empresa MotorExtremo en el circuito de Almería.
URL:https://sensaphoto.com/evento/circuito-de-almeria-motorextremo-15/
LOCATION:Circuito de Almeria\, Tabernas\, Almería\, 04200\, España
ORGANIZER;CN="Motor Extremo":MAILTO:reservas@motorextremo.es
END:VEVENT
BEGIN:VEVENT
DTSTART;VALUE=DATE:20250929
DTEND;VALUE=DATE:20251002
DTSTAMP:20260422T025513
CREATED:20250314T102734Z
LAST-MODIFIED:20250314T102734Z
UID:1519-1759104000-1759363199@sensaphoto.com
SUMMARY:Circuito de Jerez – RedLine
DESCRIPTION:Evento organizado por la empresa RedLine en el circuito de Jerez.
URL:https://sensaphoto.com/evento/circuito-de-jerez-redline/
LOCATION:Circuito de Jerez\, Carretera de Arcos-Jerez de la Frontera\, Km. 10\, Jerez de la Frontera\, Cádiz\, 11405\, España
ORGANIZER;CN="RedLine":MAILTO:redlinetrackdays@outlook.com
END:VEVENT
END:VCALENDAR