BEGIN:VCALENDAR
VERSION:2.0
PRODID:-//Sensaphoto fotografía deportiva - ECPv6.6.2//NONSGML v1.0//EN
CALSCALE:GREGORIAN
METHOD:PUBLISH
X-WR-CALNAME:Sensaphoto fotografía deportiva
X-ORIGINAL-URL:https://sensaphoto.com
X-WR-CALDESC:Eventos para Sensaphoto fotografía deportiva
REFRESH-INTERVAL;VALUE=DURATION:PT1H
X-Robots-Tag:noindex
X-PUBLISHED-TTL:PT1H
BEGIN:VTIMEZONE
TZID:Europe/Madrid
BEGIN:DAYLIGHT
TZOFFSETFROM:+0100
TZOFFSETTO:+0200
TZNAME:CEST
DTSTART:20240331T010000
END:DAYLIGHT
BEGIN:STANDARD
TZOFFSETFROM:+0200
TZOFFSETTO:+0100
TZNAME:CET
DTSTART:20241027T010000
END:STANDARD
END:VTIMEZONE
BEGIN:VEVENT
DTSTART;VALUE=DATE:20240517
DTEND;VALUE=DATE:20240518
DTSTAMP:20260424T014101
CREATED:20231226T121422Z
LAST-MODIFIED:20231226T121640Z
UID:1222-1715904000-1715990399@sensaphoto.com
SUMMARY:Circuito de Almería – MotorExtemo
DESCRIPTION:Evento organizado por la empresa MotorExtremo en el circuito de Almería el día 17 de Mayo del 2024.
URL:https://sensaphoto.com/evento/circuito-de-almeria-motorextemo-5/
LOCATION:Circuito de Almeria\, Tabernas\, Almería\, 04200\, España
CATEGORIES:Circuitos
ATTACH;FMTTYPE=image/jpeg:https://sensaphoto.com/wp-content/uploads/2023/12/JLR5320-scaled.jpg
ORGANIZER;CN="Motor Extremo":MAILTO:reservas@motorextremo.es
END:VEVENT
BEGIN:VEVENT
DTSTART;VALUE=DATE:20240512
DTEND;VALUE=DATE:20240513
DTSTAMP:20260424T014101
CREATED:20231226T121229Z
LAST-MODIFIED:20231226T121311Z
UID:1217-1715472000-1715558399@sensaphoto.com
SUMMARY:Circuito de Almería – MotorExtemo
DESCRIPTION:Evento organizado por la empresa MotorExtremo en el circuito de Almería el día 12 de Mayo del 2024.
URL:https://sensaphoto.com/evento/circuito-de-almeria-motorextemo-4/
LOCATION:Circuito de Almeria\, Tabernas\, Almería\, 04200\, España
ATTACH;FMTTYPE=image/jpeg:https://sensaphoto.com/wp-content/uploads/2023/12/AAE8287-scaled.jpg
ORGANIZER;CN="Motor Extremo":MAILTO:reservas@motorextremo.es
END:VEVENT
BEGIN:VEVENT
DTSTART;VALUE=DATE:20240511
DTEND;VALUE=DATE:20240512
DTSTAMP:20260424T014101
CREATED:20231226T121109Z
LAST-MODIFIED:20231226T121109Z
UID:1214-1715385600-1715471999@sensaphoto.com
SUMMARY:Circuito de Almería – MotorExtemo
DESCRIPTION:Evento organizado por la empresa MotorExtremo en el circuito de Almería el día 11 de Mayo del 2024.
URL:https://sensaphoto.com/evento/circuito-de-almeria-motorextemo-3/
LOCATION:Circuito de Almeria\, Tabernas\, Almería\, 04200\, España
CATEGORIES:Circuitos
ATTACH;FMTTYPE=image/jpeg:https://sensaphoto.com/wp-content/uploads/2023/12/AAE6578-scaled.jpg
END:VEVENT
BEGIN:VEVENT
DTSTART;VALUE=DATE:20240510
DTEND;VALUE=DATE:20240511
DTSTAMP:20260424T014101
CREATED:20231226T120907Z
LAST-MODIFIED:20231226T120907Z
UID:1211-1715299200-1715385599@sensaphoto.com
SUMMARY:Circuito de Almería – MotorExtemo
DESCRIPTION:Evento organizado por la empresa MotorExtremo en el circuito de Almería el día 10 de Mayo del 2024.
URL:https://sensaphoto.com/evento/circuito-de-almeria-motorextemo-2/
LOCATION:Circuito de Almeria\, Tabernas\, Almería\, 04200\, España
CATEGORIES:Circuitos
ATTACH;FMTTYPE=image/jpeg:https://sensaphoto.com/wp-content/uploads/2023/12/AAE3554-scaled.jpg
ORGANIZER;CN="Motor Extremo":MAILTO:reservas@motorextremo.es
END:VEVENT
BEGIN:VEVENT
DTSTART;VALUE=DATE:20240503
DTEND;VALUE=DATE:20240506
DTSTAMP:20260424T014101
CREATED:20231226T120358Z
LAST-MODIFIED:20231226T120358Z
UID:1207-1714694400-1714953599@sensaphoto.com
SUMMARY:Circuito de Assen – Valentinos
DESCRIPTION:Evento organizado por la empresa Valentinos en el circuito de Assen (Holanda) durante el día 3\, 4 y 5 de Mayo del 2024.
URL:https://sensaphoto.com/evento/circuito-de-assen-valentinos/
LOCATION:Circuito de Assen\, Postbus 150\, Assen\, 9400\, Países Bajos
ATTACH;FMTTYPE=image/jpeg:https://sensaphoto.com/wp-content/uploads/2023/12/DSC0799-scaled.jpg
ORGANIZER;CN="Valentinos":MAILTO:ffice@valentinos-trackdays.com
END:VEVENT
BEGIN:VEVENT
DTSTART;VALUE=DATE:20240429
DTEND;VALUE=DATE:20240502
DTSTAMP:20260424T014101
CREATED:20231223T122513Z
LAST-MODIFIED:20231223T122513Z
UID:1201-1714348800-1714607999@sensaphoto.com
SUMMARY:Circuito de Portimao - Red Line
DESCRIPTION:Evento organizado por la empresa RedLine en el circuito de Portimao durante los días 29 y de Abril y 1 de Mayo del 2024.
URL:https://sensaphoto.com/evento/circuito-de-portimao-red-line/
LOCATION:Circuito de Portimao\, Mexilhoeira Grande\, Portimao\, 8500-148\, Portugal
ATTACH;FMTTYPE=image/jpeg:https://sensaphoto.com/wp-content/uploads/2023/12/3PO3941-scaled.jpg
ORGANIZER;CN="RedLine":MAILTO:redlinetrackdays@outlook.com
END:VEVENT
BEGIN:VEVENT
DTSTART;VALUE=DATE:20240422
DTEND;VALUE=DATE:20240426
DTSTAMP:20260424T014101
CREATED:20231223T122114Z
LAST-MODIFIED:20240206T192625Z
UID:1197-1713744000-1714089599@sensaphoto.com
SUMMARY:Circuito de Navarra – Power2Slide
DESCRIPTION:Evento organizado por la empresa Power2Slide en el circuito de Navarra durante los días 22\, 23\, 24 y 25 de Abril del 2024.
URL:https://sensaphoto.com/evento/circuito-de-andalucia-porwe2slide/
LOCATION:Circuito de Navarra\, CALLE MALVASIA 5\, LOS ARCOS\, Navarra\, 31210\, España
ATTACH;FMTTYPE=image/png:https://sensaphoto.com/wp-content/uploads/2023/10/p2s-Logo-1024x720_130720.png
END:VEVENT
BEGIN:VEVENT
DTSTART;VALUE=DATE:20240421
DTEND;VALUE=DATE:20240422
DTSTAMP:20260424T014101
CREATED:20231223T121525Z
LAST-MODIFIED:20231223T121525Z
UID:1194-1713657600-1713743999@sensaphoto.com
SUMMARY:Circuito de Andalucía – MotorExtremo
DESCRIPTION:Evento organizado por la empresa MotorExtremo en el circuito de Andalucía durante el día 21 de Abril del 2024.
URL:https://sensaphoto.com/evento/circuito-de-andalucia-motorextremo-5/
LOCATION:Circuito de Andalucía\, Tabernas\, Almería\, España
ATTACH;FMTTYPE=image/jpeg:https://sensaphoto.com/wp-content/uploads/2023/12/JRJ_6892-scaled.jpg
ORGANIZER;CN="Motor Extremo":MAILTO:reservas@motorextremo.es
END:VEVENT
BEGIN:VEVENT
DTSTART;VALUE=DATE:20240420
DTEND;VALUE=DATE:20240421
DTSTAMP:20260424T014101
CREATED:20231223T121336Z
LAST-MODIFIED:20231223T121336Z
UID:1191-1713571200-1713657599@sensaphoto.com
SUMMARY:Circuito de Andalucía – MotorExtremo
DESCRIPTION:Evento organizado por la empresa MotorExtremo en el circuito de Andalucía durante el día 20 de Abril del 2024.
URL:https://sensaphoto.com/evento/circuito-de-andalucia-motorextremo-4/
LOCATION:Circuito de Andalucía\, Tabernas\, Almería\, España
ATTACH;FMTTYPE=image/jpeg:https://sensaphoto.com/wp-content/uploads/2023/12/JRJ_6918-scaled.jpg
ORGANIZER;CN="Motor Extremo":MAILTO:reservas@motorextremo.es
END:VEVENT
BEGIN:VEVENT
DTSTART;VALUE=DATE:20240407
DTEND;VALUE=DATE:20240408
DTSTAMP:20260424T014101
CREATED:20231223T113709Z
LAST-MODIFIED:20231223T113709Z
UID:1186-1712448000-1712534399@sensaphoto.com
SUMMARY:Circuito de Sevilla – MotorExtremo
DESCRIPTION:Evento organizado por la empresa MotorExtremo en el circuito de Sevilla durante los días 7 de Abril del 2024.
URL:https://sensaphoto.com/evento/circuito-de-sevilla-motorextremo-4/
LOCATION:Circuito de Sevilla\, Carretera SE-3201\, Carmona\, Sevilla\, 41410\, España
ATTACH;FMTTYPE=image/jpeg:https://sensaphoto.com/wp-content/uploads/2023/12/JLR5826-scaled.jpg
ORGANIZER;CN="Motor Extremo":MAILTO:reservas@motorextremo.es
END:VEVENT
BEGIN:VEVENT
DTSTART;VALUE=DATE:20240407
DTEND;VALUE=DATE:20240408
DTSTAMP:20260424T014101
CREATED:20231223T113355Z
LAST-MODIFIED:20231223T113355Z
UID:1181-1712448000-1712534399@sensaphoto.com
SUMMARY:Circuito de Almería – MotorExtremo
DESCRIPTION:Evento organizado por la empresa MotorExtremo en el circuito de Almería durante el día 7 de Abril del 2024.
URL:https://sensaphoto.com/evento/circuito-de-almeria-motorextremo-8/
LOCATION:Circuito de Almeria\, Tabernas\, Almería\, 04200\, España
ATTACH;FMTTYPE=image/jpeg:https://sensaphoto.com/wp-content/uploads/2023/12/AAA0353-scaled.jpg
ORGANIZER;CN="Motor Extremo":MAILTO:reservas@motorextremo.es
END:VEVENT
BEGIN:VEVENT
DTSTART;VALUE=DATE:20240406
DTEND;VALUE=DATE:20240407
DTSTAMP:20260424T014101
CREATED:20231223T113118Z
LAST-MODIFIED:20231223T113118Z
UID:1175-1712361600-1712447999@sensaphoto.com
SUMMARY:Circuito de Almería – MotorExtremo
DESCRIPTION:Evento organizado por la empresa MotorExtremo en el circuito de Almería durante el día 6 de Abril del 2024.
URL:https://sensaphoto.com/evento/circuito-de-almeria-motorextremo-7/
LOCATION:Circuito de Almeria\, Tabernas\, Almería\, 04200\, España
CATEGORIES:Circuitos
ATTACH;FMTTYPE=image/jpeg:https://sensaphoto.com/wp-content/uploads/2023/12/JLR9354-scaled.jpg
END:VEVENT
BEGIN:VEVENT
DTSTART;VALUE=DATE:20240406
DTEND;VALUE=DATE:20240407
DTSTAMP:20260424T014101
CREATED:20231223T112607Z
LAST-MODIFIED:20231223T113749Z
UID:1171-1712361600-1712447999@sensaphoto.com
SUMMARY:Circuito de Sevilla – MotorExtremo
DESCRIPTION:Evento organizado por la empresa MotorExtremo en el circuito de Sevilla durante los días 6 de Abril del 2024.
URL:https://sensaphoto.com/evento/circuito-de-sevilla-motorextremo-3/
LOCATION:Circuito de Sevilla\, Carretera SE-3201\, Carmona\, Sevilla\, 41410\, España
CATEGORIES:Circuitos
ATTACH;FMTTYPE=image/jpeg:https://sensaphoto.com/wp-content/uploads/2023/07/portafolio-sensaphoto-25.jpg
ORGANIZER;CN="Motor Extremo":MAILTO:reservas@motorextremo.es
END:VEVENT
BEGIN:VEVENT
DTSTART;VALUE=DATE:20240406
DTEND;VALUE=DATE:20240409
DTSTAMP:20260424T014101
CREATED:20231223T112044Z
LAST-MODIFIED:20231223T112148Z
UID:1166-1712361600-1712620799@sensaphoto.com
SUMMARY:Circuito de Andalucía – NSF
DESCRIPTION:Evento organizado por la empresa NSF en el circuito de Andalucía durante los días 6\, 7 y 8 de Abril del 2024.
URL:https://sensaphoto.com/evento/1166/
LOCATION:Circuito de Andalucía\, Tabernas\, Almería\, España
ATTACH;FMTTYPE=image/jpeg:https://sensaphoto.com/wp-content/uploads/2023/12/JLR0138-scaled.jpg
ORGANIZER;CN="NPS":MAILTO:info@notso-fast.com
END:VEVENT
BEGIN:VEVENT
DTSTART;VALUE=DATE:20240405
DTEND;VALUE=DATE:20240406
DTSTAMP:20260424T014101
CREATED:20231222T113047Z
LAST-MODIFIED:20231223T113154Z
UID:1163-1712275200-1712361599@sensaphoto.com
SUMMARY:Circuito de Almería – MotorExtremo
DESCRIPTION:Evento organizado por la empresa MotorExtremo en el circuito de Almería durante el día 5 de Abril del 2024.
URL:https://sensaphoto.com/evento/circuito-de-almeria-motorextremo-6/
LOCATION:Circuito de Almeria\, Tabernas\, Almería\, 04200\, España
ATTACH;FMTTYPE=image/jpeg:https://sensaphoto.com/wp-content/uploads/2023/12/AAE0155-scaled.jpg
ORGANIZER;CN="Motor Extremo":MAILTO:reservas@motorextremo.es
END:VEVENT
BEGIN:VEVENT
DTSTART;VALUE=DATE:20240330
DTEND;VALUE=DATE:20240401
DTSTAMP:20260424T014101
CREATED:20231222T112650Z
LAST-MODIFIED:20231222T112650Z
UID:1161-1711756800-1711929599@sensaphoto.com
SUMMARY:Circuito de Sevilla – MotorExtremo
DESCRIPTION:Evento organizado por la empresa MotorExtremo en el circuito de Sevilla durante los días 30 y 31 de Marzo del 2024.
URL:https://sensaphoto.com/evento/circuito-de-sevilla-motorextremo-2/
LOCATION:Circuito de Sevilla\, Carretera SE-3201\, Carmona\, Sevilla\, 41410\, España
ATTACH;FMTTYPE=image/jpeg:https://sensaphoto.com/wp-content/uploads/2023/07/portafolio-sensaphoto-33.jpg
ORGANIZER;CN="Motor Extremo":MAILTO:reservas@motorextremo.es
END:VEVENT
BEGIN:VEVENT
DTSTART;VALUE=DATE:20240328
DTEND;VALUE=DATE:20240331
DTSTAMP:20260424T014101
CREATED:20231222T112503Z
LAST-MODIFIED:20231222T112503Z
UID:1158-1711584000-1711843199@sensaphoto.com
SUMMARY:Circuito de Jerez – MotorExtremo
DESCRIPTION:Evento organizado por la empresa MotorExtremo en el circuito de Jerez durante los días 28\, 29 y 30 de Marzo del 2024.
URL:https://sensaphoto.com/evento/circuito-de-jerez-motorextremo-3/
LOCATION:Circuito de Jerez\, Carretera de Arcos-Jerez de la Frontera\, Km. 10\, Jerez de la Frontera\, Cádiz\, 11405\, España
ATTACH;FMTTYPE=image/jpeg:https://sensaphoto.com/wp-content/uploads/2023/12/AAA1729-scaled.jpg
ORGANIZER;CN="Motor Extremo":MAILTO:reservas@motorextremo.es
END:VEVENT
BEGIN:VEVENT
DTSTART;VALUE=DATE:20240318
DTEND;VALUE=DATE:20240322
DTSTAMP:20260424T014101
CREATED:20231222T111444Z
LAST-MODIFIED:20231222T111444Z
UID:1154-1710720000-1711065599@sensaphoto.com
SUMMARY:Circuito de Cartagena – Circuit Fun
DESCRIPTION:Evento organizado por empresa Circuit Fun en el circuito de Cartagena durante los días 18\, 19 20 y 21 de Marzo del 2024.
URL:https://sensaphoto.com/evento/circuito-de-cartagena-circuit-fun/
LOCATION:Circuito de Cartagena\, Ctra. A la Aljorra\, Km 2\, 600\, Cartagena\, Murcia\, 30391\, España
ORGANIZER;CN="Circuit Fun":MAILTO:info@circuitfun.be
END:VEVENT
BEGIN:VEVENT
DTSTART;VALUE=DATE:20240316
DTEND;VALUE=DATE:20240318
DTSTAMP:20260424T014101
CREATED:20231222T110826Z
LAST-MODIFIED:20231222T110826Z
UID:1151-1710547200-1710719999@sensaphoto.com
SUMMARY:Circuito de Andalucía – MotorExtremo
DESCRIPTION:Evento organizado por la empresa MotorExtremo en el circuito de Andalucía durante los días 16 y 17 de Marzo del 2024.
URL:https://sensaphoto.com/evento/circuito-de-andalucia-motorextremo-3/
LOCATION:Circuito de Andalucía\, Tabernas\, Almería\, España
ATTACH;FMTTYPE=image/jpeg:https://sensaphoto.com/wp-content/uploads/2023/12/JLR4680-scaled.jpg
ORGANIZER;CN="Motor Extremo":MAILTO:reservas@motorextremo.es
END:VEVENT
BEGIN:VEVENT
DTSTART;VALUE=DATE:20240315
DTEND;VALUE=DATE:20240318
DTSTAMP:20260424T014101
CREATED:20231222T110245Z
LAST-MODIFIED:20231222T110245Z
UID:1147-1710460800-1710719999@sensaphoto.com
SUMMARY:Circuito de Almería – MotorExtremo
DESCRIPTION:Evento organizado por la empresa MotorExtremo en el circuito de Almería durante los días 15\, 16 y 17 de Marzo del 2024.
URL:https://sensaphoto.com/evento/circuito-de-almeria-motorextremo-5/
LOCATION:Circuito de Almeria\, Tabernas\, Almería\, 04200\, España
ATTACH;FMTTYPE=image/jpeg:https://sensaphoto.com/wp-content/uploads/2023/12/JLR9416-scaled.jpg
ORGANIZER;CN="Motor Extremo":MAILTO:reservas@motorextremo.es
END:VEVENT
BEGIN:VEVENT
DTSTART;VALUE=DATE:20240311
DTEND;VALUE=DATE:20240314
DTSTAMP:20260424T014101
CREATED:20231222T110001Z
LAST-MODIFIED:20231222T110525Z
UID:1142-1710115200-1710374399@sensaphoto.com
SUMMARY:Circuito de Motorland - Motorraid
DESCRIPTION:Evento organizado por la empresa Motorraid en el circuito de Motorland durante los días 11\, 12  y 13 de Marzo del 2024.
URL:https://sensaphoto.com/evento/circuito-de-motorland-motorraid/
LOCATION:Circuito de Motorland\, Ctra. A-2404\, km 1\, Alcañiz\, Teruel\, 44600
ATTACH;FMTTYPE=image/jpeg:https://sensaphoto.com/wp-content/uploads/2023/12/JLR4566-scaled.jpg
END:VEVENT
BEGIN:VEVENT
DTSTART;VALUE=DATE:20240309
DTEND;VALUE=DATE:20240311
DTSTAMP:20260424T014101
CREATED:20231222T105638Z
LAST-MODIFIED:20231222T110053Z
UID:1139-1709942400-1710115199@sensaphoto.com
SUMMARY:Circuito de Almería – MotorExtremo
DESCRIPTION:Evento organizado por la empresa MotorExtremo en el circuito de Almería durante los días 9 y 10 de Marzo del 2024.
URL:https://sensaphoto.com/evento/circuito-de-almeria-motorextremo-4/
LOCATION:Sevilla
ATTACH;FMTTYPE=image/jpeg:https://sensaphoto.com/wp-content/uploads/2023/12/CAR3661-scaled.jpg
ORGANIZER;CN="Motor Extremo":MAILTO:reservas@motorextremo.es
END:VEVENT
BEGIN:VEVENT
DTSTART;VALUE=DATE:20240301
DTEND;VALUE=DATE:20240304
DTSTAMP:20260424T014101
CREATED:20231222T105401Z
LAST-MODIFIED:20231222T105401Z
UID:1136-1709251200-1709510399@sensaphoto.com
SUMMARY:Circuito de Cartagena – Biosan
DESCRIPTION:Evento organizado por empresa Biosan en el circuito de Cartagena durante los días 1 y 3 de Marzo del 2024.
URL:https://sensaphoto.com/evento/circuito-de-cartagena-biosan-2/
LOCATION:Circuito de Cartagena\, Ctra. A la Aljorra\, Km 2\, 600\, Cartagena\, Murcia\, 30391\, España
CATEGORIES:Circuitos
ATTACH;FMTTYPE=image/jpeg:https://sensaphoto.com/wp-content/uploads/2023/12/ALM7206-scaled.jpg
END:VEVENT
BEGIN:VEVENT
DTSTART;VALUE=DATE:20240224
DTEND;VALUE=DATE:20240226
DTSTAMP:20260424T014101
CREATED:20231222T013201Z
LAST-MODIFIED:20231222T013201Z
UID:1133-1708732800-1708905599@sensaphoto.com
SUMMARY:Circuito de Sevilla – MotorExtremo
DESCRIPTION:Evento organizado por empresa MotorExtremo en el circuito de Sevilla durante los días 24 y 25 de Febrero del 2024. Será el primer evento que se realice en este nuevo trazado cercano a la localidad sevillana de Carmona.
URL:https://sensaphoto.com/evento/circuito-de-sevilla-motorextremo/
LOCATION:Circuito de Sevilla\, Carretera SE-3201\, Carmona\, Sevilla\, 41410\, España
ATTACH;FMTTYPE=image/jpeg:https://sensaphoto.com/wp-content/uploads/2023/07/portafolio-sensaphoto-19.jpg
ORGANIZER;CN="Motor Extremo":MAILTO:reservas@motorextremo.es
END:VEVENT
BEGIN:VEVENT
DTSTART;VALUE=DATE:20240218
DTEND;VALUE=DATE:20240219
DTSTAMP:20260424T014101
CREATED:20240124T162819Z
LAST-MODIFIED:20240124T162819Z
UID:1260-1708214400-1708300799@sensaphoto.com
SUMMARY:Circuito de Almería – MotorExtremo
DESCRIPTION:Evento organizado por empresa MotorExtremo en el circuito de Almería durante el 18 de febrero de 2024.
URL:https://sensaphoto.com/evento/circuito-de-almeria-motorextremo-10/
LOCATION:Circuito de Almeria\, Tabernas\, Almería\, 04200\, España
ATTACH;FMTTYPE=image/jpeg:https://sensaphoto.com/wp-content/uploads/2024/01/JE32671-scaled.jpg
ORGANIZER;CN="Motor Extremo":MAILTO:reservas@motorextremo.es
END:VEVENT
BEGIN:VEVENT
DTSTART;VALUE=DATE:20240217
DTEND;VALUE=DATE:20240219
DTSTAMP:20260424T014101
CREATED:20231222T012417Z
LAST-MODIFIED:20231222T012417Z
UID:1130-1708128000-1708300799@sensaphoto.com
SUMMARY:Circuito de Jerez – MotorExtremo
DESCRIPTION:Evento organizado por empresa MotorExtremo en el circuito de Jerez durante los días 17 y 18 de Febrero del 2024.
URL:https://sensaphoto.com/evento/circuito-de-jerez-motorextremo-2/
LOCATION:Circuito de Jerez\, Carretera de Arcos-Jerez de la Frontera\, Km. 10\, Jerez de la Frontera\, Cádiz\, 11405\, España
ATTACH;FMTTYPE=image/jpeg:https://sensaphoto.com/wp-content/uploads/2023/12/JLR1790-scaled.jpg
ORGANIZER;CN="Motor Extremo":MAILTO:reservas@motorextremo.es
END:VEVENT
BEGIN:VEVENT
DTSTART;VALUE=DATE:20240217
DTEND;VALUE=DATE:20240218
DTSTAMP:20260424T014101
CREATED:20240124T162703Z
LAST-MODIFIED:20240124T162703Z
UID:1257-1708128000-1708214399@sensaphoto.com
SUMMARY:Circuito de Almería – MotorExtremo
DESCRIPTION:Evento organizado por empresa MotorExtremo en el circuito de Almería durante el 17 de febrero de 2024.
URL:https://sensaphoto.com/evento/circuito-de-almeria-motorextremo-9/
LOCATION:Circuito de Almeria\, Tabernas\, Almería\, 04200\, España
CATEGORIES:Circuitos
ATTACH;FMTTYPE=image/jpeg:https://sensaphoto.com/wp-content/uploads/2024/01/JE34161-scaled.jpg
ORGANIZER;CN="Motor Extremo":MAILTO:reservas@motorextremo.es
END:VEVENT
BEGIN:VEVENT
DTSTART;VALUE=DATE:20240212
DTEND;VALUE=DATE:20240215
DTSTAMP:20260424T014101
CREATED:20240208T154513Z
LAST-MODIFIED:20240208T154513Z
UID:1274-1707696000-1707955199@sensaphoto.com
SUMMARY:Circuito de Andalucía – MRP Racing
DESCRIPTION:Evento organizado por empresa francesa MRP Racing en el circuito de Andalucía durante los días 12 y 14 de Febrero del 2024.
URL:https://sensaphoto.com/evento/circuito-de-andalucia-mrp-racing/
LOCATION:Circuito de Andalucía\, Tabernas\, Almería\, España
ATTACH;FMTTYPE=image/jpeg:https://sensaphoto.com/wp-content/uploads/2023/12/JLR5376.jpg
END:VEVENT
BEGIN:VEVENT
DTSTART;VALUE=DATE:20240210
DTEND;VALUE=DATE:20240212
DTSTAMP:20260424T014101
CREATED:20231222T012026Z
LAST-MODIFIED:20231222T012026Z
UID:1126-1707523200-1707695999@sensaphoto.com
SUMMARY:Circuito de Andalucía - MotorExtremo
DESCRIPTION:Evento organizado por empresa MotorExtremo en el circuito de Andalucía durante los días 10 y 11 de Febrero del 2024.
URL:https://sensaphoto.com/evento/circuito-de-andalucia-motorextremo-2/
LOCATION:Circuito de Andalucía\, Tabernas\, Almería\, España
CATEGORIES:Circuitos
ATTACH;FMTTYPE=image/jpeg:https://sensaphoto.com/wp-content/uploads/2023/12/JLR2978.jpg
ORGANIZER;CN="Motor Extremo":MAILTO:reservas@motorextremo.es
END:VEVENT
BEGIN:VEVENT
DTSTART;TZID=Europe/Madrid:20240209T080000
DTEND;TZID=Europe/Madrid:20240209T170000
DTSTAMP:20260424T014101
CREATED:20240209T014623Z
LAST-MODIFIED:20240209T014623Z
UID:1281-1707465600-1707498000@sensaphoto.com
SUMMARY:Circuito de Almería – MotorExtemo
DESCRIPTION:Evento organizado por la empresa MotorExtremo en el circuito de Almería el día 8 de Junio del 2024.
URL:https://sensaphoto.com/evento/circuito-de-almeria-motorextemo-13/
LOCATION:Circuito de Almeria\, Tabernas\, Almería\, 04200\, España
ATTACH;FMTTYPE=image/jpeg:https://sensaphoto.com/wp-content/uploads/2024/02/JE32147-scaled.jpg
ORGANIZER;CN="Motor Extremo":MAILTO:reservas@motorextremo.es
END:VEVENT
END:VCALENDAR