BEGIN:VCALENDAR
VERSION:2.0
PRODID:-//Sensaphoto fotografía deportiva - ECPv6.6.2//NONSGML v1.0//EN
CALSCALE:GREGORIAN
METHOD:PUBLISH
X-ORIGINAL-URL:https://sensaphoto.com
X-WR-CALDESC:Eventos para Sensaphoto fotografía deportiva
REFRESH-INTERVAL;VALUE=DURATION:PT1H
X-Robots-Tag:noindex
X-PUBLISHED-TTL:PT1H
BEGIN:VTIMEZONE
TZID:Europe/Madrid
BEGIN:DAYLIGHT
TZOFFSETFROM:+0100
TZOFFSETTO:+0200
TZNAME:CEST
DTSTART:20250330T010000
END:DAYLIGHT
BEGIN:STANDARD
TZOFFSETFROM:+0200
TZOFFSETTO:+0100
TZNAME:CET
DTSTART:20251026T010000
END:STANDARD
END:VTIMEZONE
BEGIN:VEVENT
DTSTART;VALUE=DATE:20250621
DTEND;VALUE=DATE:20250622
DTSTAMP:20260423T121419
CREATED:20250314T100005Z
LAST-MODIFIED:20250314T100005Z
UID:1470-1750464000-1750550399@sensaphoto.com
SUMMARY:Circuito de Motorland – MotorExtemo
DESCRIPTION:Evento organizado por la empresa MotorExtremo en el circuito de Motorland.
URL:https://sensaphoto.com/evento/circuito-de-motorland-motorextemo/
LOCATION:Circuito de Motorland\, Ctra. A-2404\, km 1\, Alcañiz\, Teruel\, 44600
ORGANIZER;CN="Motor Extremo":MAILTO:reservas@motorextremo.es
END:VEVENT
BEGIN:VEVENT
DTSTART;TZID=Europe/Madrid:20250613T080000
DTEND;TZID=Europe/Madrid:20250615T170000
DTSTAMP:20260423T121419
CREATED:20250314T095905Z
LAST-MODIFIED:20250314T095905Z
UID:1468-1749801600-1750006800@sensaphoto.com
SUMMARY:Circuito de Almería – MotorExtemo
DESCRIPTION:Evento organizado por la empresa MotorExtremo en el circuito de Almería
URL:https://sensaphoto.com/evento/circuito-de-almeria-motorextemo-48/
LOCATION:Circuito de Almeria\, Tabernas\, Almería\, 04200\, España
ORGANIZER;CN="Motor Extremo":MAILTO:reservas@motorextremo.es
END:VEVENT
BEGIN:VEVENT
DTSTART;TZID=Europe/Madrid:20250606T080000
DTEND;TZID=Europe/Madrid:20250608T170000
DTSTAMP:20260423T121419
CREATED:20250314T095822Z
LAST-MODIFIED:20250314T095822Z
UID:1466-1749196800-1749402000@sensaphoto.com
SUMMARY:Circuito de Almería – MotorExtemo
DESCRIPTION:Evento organizado por la empresa MotorExtremo en el circuito de Almería.
URL:https://sensaphoto.com/evento/circuito-de-almeria-motorextemo-47/
LOCATION:Circuito de Almeria\, Tabernas\, Almería\, 04200\, España
ORGANIZER;CN="Motor Extremo":MAILTO:reservas@motorextremo.es
END:VEVENT
BEGIN:VEVENT
DTSTART;VALUE=DATE:20250601
DTEND;VALUE=DATE:20250602
DTSTAMP:20260423T121419
CREATED:20250314T095726Z
LAST-MODIFIED:20250314T095726Z
UID:1464-1748736000-1748822399@sensaphoto.com
SUMMARY:Circuito de Andalucía – MotorExtemo
DESCRIPTION:Evento organizado por la empresa MotorExtremo en el circuito de Andalucía.
URL:https://sensaphoto.com/evento/circuito-de-andalucia-motorextemo-7/
LOCATION:Circuito de Andalucía\, Tabernas\, Almería\, España
ORGANIZER;CN="Motor Extremo":MAILTO:reservas@motorextremo.es
END:VEVENT
BEGIN:VEVENT
DTSTART;VALUE=DATE:20250531
DTEND;VALUE=DATE:20250602
DTSTAMP:20260423T121419
CREATED:20250314T095243Z
LAST-MODIFIED:20250314T095553Z
UID:1456-1748649600-1748822399@sensaphoto.com
SUMMARY:Circuito de Hockenheim - Eybis
DESCRIPTION:Evento organizado por la empresa Eybis en el circuito de Hockenheim.
URL:https://sensaphoto.com/evento/circuito-de-hockenheim-eybis/
LOCATION:Circuito de Hokenheim\, Am Motodrom 1\, Hockenheim\, 68766
END:VEVENT
BEGIN:VEVENT
DTSTART;VALUE=DATE:20250530
DTEND;VALUE=DATE:20250602
DTSTAMP:20260423T121419
CREATED:20250203T230743Z
LAST-MODIFIED:20250203T230743Z
UID:1451-1748563200-1748822399@sensaphoto.com
SUMMARY:Circuito de Almería – MotorExtemo
DESCRIPTION:Evento organizado por la empresa MotorExtremo en el circuito de Almería
URL:https://sensaphoto.com/evento/circuito-de-almeria-motorextemo-46/
LOCATION:Circuito de Almeria\, Tabernas\, Almería\, 04200\, España
ORGANIZER;CN="Motor Extremo":MAILTO:reservas@motorextremo.es
END:VEVENT
BEGIN:VEVENT
DTSTART;VALUE=DATE:20250523
DTEND;VALUE=DATE:20250526
DTSTAMP:20260423T121419
CREATED:20250203T230515Z
LAST-MODIFIED:20250203T230515Z
UID:1447-1747958400-1748217599@sensaphoto.com
SUMMARY:Circuito de Almería – MotorExtemo
DESCRIPTION:Evento organizado por la empresa MotorExtremo en el circuito de Almería.
URL:https://sensaphoto.com/evento/circuito-de-almeria-motorextemo-45/
LOCATION:Circuito de Almeria\, Tabernas\, Almería\, 04200\, España
ORGANIZER;CN="Motor Extremo":MAILTO:reservas@motorextremo.es
END:VEVENT
BEGIN:VEVENT
DTSTART;VALUE=DATE:20250523
DTEND;VALUE=DATE:20250525
DTSTAMP:20260423T121419
CREATED:20250203T230437Z
LAST-MODIFIED:20250203T230635Z
UID:1444-1747958400-1748131199@sensaphoto.com
SUMMARY:Circuito de Sevilla – MotorExtemo
DESCRIPTION:Evento organizado por la empresa MotorExtremo en el circuito de Sevilla.
URL:https://sensaphoto.com/evento/circuito-de-sevilla-motorextemo-7/
LOCATION:Circuito de Sevilla\, Carretera SE-3201\, Carmona\, Sevilla\, 41410\, España
ORGANIZER;CN="Motor Extremo":MAILTO:reservas@motorextremo.es
END:VEVENT
BEGIN:VEVENT
DTSTART;TZID=Europe/Madrid:20250516T080000
DTEND;TZID=Europe/Madrid:20250518T170000
DTSTAMP:20260423T121419
CREATED:20250203T230313Z
LAST-MODIFIED:20250203T230313Z
UID:1442-1747382400-1747587600@sensaphoto.com
SUMMARY:Circuito de Almería – MotorExtemo
DESCRIPTION:Evento organizado por la empresa MotorExtremo en el circuito de Almería.
URL:https://sensaphoto.com/evento/circuito-de-almeria-motorextemo-44/
LOCATION:Circuito de Almeria\, Tabernas\, Almería\, 04200\, España
ORGANIZER;CN="Motor Extremo":MAILTO:reservas@motorextremo.es
END:VEVENT
BEGIN:VEVENT
DTSTART;VALUE=DATE:20250511
DTEND;VALUE=DATE:20250512
DTSTAMP:20260423T121419
CREATED:20250121T212042Z
LAST-MODIFIED:20250121T212042Z
UID:1438-1746921600-1747007999@sensaphoto.com
SUMMARY:Circuito de Almería – MotorExtemo
DESCRIPTION:Evento organizado por la empresa MotorExtremo en el circuito de Almería.
URL:https://sensaphoto.com/evento/circuito-de-almeria-motorextemo-43/
LOCATION:Circuito de Almeria\, Tabernas\, Almería\, 04200\, España
ORGANIZER;CN="Motor Extremo":MAILTO:reservas@motorextremo.es
END:VEVENT
BEGIN:VEVENT
DTSTART;VALUE=DATE:20250510
DTEND;VALUE=DATE:20250511
DTSTAMP:20260423T121419
CREATED:20250121T212011Z
LAST-MODIFIED:20250121T212011Z
UID:1436-1746835200-1746921599@sensaphoto.com
SUMMARY:Circuito de Almería – MotorExtemo
DESCRIPTION:Evento organizado por la empresa MotorExtremo en el circuito de Almería.
URL:https://sensaphoto.com/evento/circuito-de-almeria-motorextemo-42/
LOCATION:Circuito de Almeria\, Tabernas\, Almería\, 04200\, España
ORGANIZER;CN="Motor Extremo":MAILTO:reservas@motorextremo.es
END:VEVENT
BEGIN:VEVENT
DTSTART;VALUE=DATE:20250509
DTEND;VALUE=DATE:20250510
DTSTAMP:20260423T121419
CREATED:20250121T211930Z
LAST-MODIFIED:20250121T211930Z
UID:1434-1746748800-1746835199@sensaphoto.com
SUMMARY:Circuito de Almería – MotorExtemo
DESCRIPTION:Evento organizado por la empresa MotorExtremo en el circuito de Almería
URL:https://sensaphoto.com/evento/circuito-de-almeria-motorextemo-41/
LOCATION:Circuito de Almeria\, Tabernas\, Almería\, 04200\, España
ORGANIZER;CN="Motor Extremo":MAILTO:reservas@motorextremo.es
END:VEVENT
BEGIN:VEVENT
DTSTART;VALUE=DATE:20250507
DTEND;VALUE=DATE:20250510
DTSTAMP:20260423T121419
CREATED:20250121T211735Z
LAST-MODIFIED:20250121T211735Z
UID:1432-1746576000-1746835199@sensaphoto.com
SUMMARY:Circuito de Portimao – RedLine
DESCRIPTION:Evento organizado por la empresa RedLine en el circuito de Portimao.
URL:https://sensaphoto.com/evento/circuito-de-portimao-redline-2/
LOCATION:Circuito de Portimao\, Mexilhoeira Grande\, Portimao\, 8500-148\, Portugal
ORGANIZER;CN="RedLine":MAILTO:redlinetrackdays@outlook.com
END:VEVENT
BEGIN:VEVENT
DTSTART;VALUE=DATE:20250504
DTEND;VALUE=DATE:20250505
DTSTAMP:20260423T121419
CREATED:20250121T211617Z
LAST-MODIFIED:20250121T211617Z
UID:1430-1746316800-1746403199@sensaphoto.com
SUMMARY:Circuito de Jerez – MotorExtemo
DESCRIPTION:Evento organizado por la empresa MotorExtremo en el circuito de Jerez.
URL:https://sensaphoto.com/evento/circuito-de-jerez-motorextemo-4/
LOCATION:Circuito de Jerez\, Carretera de Arcos-Jerez de la Frontera\, Km. 10\, Jerez de la Frontera\, Cádiz\, 11405\, España
ORGANIZER;CN="Motor Extremo":MAILTO:reservas@motorextremo.es
END:VEVENT
BEGIN:VEVENT
DTSTART;VALUE=DATE:20250503
DTEND;VALUE=DATE:20250504
DTSTAMP:20260423T121419
CREATED:20250121T211542Z
LAST-MODIFIED:20250121T211542Z
UID:1428-1746230400-1746316799@sensaphoto.com
SUMMARY:Circuito de Jerez – MotorExtemo
DESCRIPTION:Evento organizado por la empresa MotorExtremo en el circuito de Jerez.
URL:https://sensaphoto.com/evento/circuito-de-jerez-motorextemo-3/
LOCATION:Circuito de Jerez\, Carretera de Arcos-Jerez de la Frontera\, Km. 10\, Jerez de la Frontera\, Cádiz\, 11405\, España
ORGANIZER;CN="Motor Extremo":MAILTO:reservas@motorextremo.es
END:VEVENT
BEGIN:VEVENT
DTSTART;VALUE=DATE:20250501
DTEND;VALUE=DATE:20250502
DTSTAMP:20260423T121419
CREATED:20250121T211318Z
LAST-MODIFIED:20250121T211318Z
UID:1426-1746057600-1746143999@sensaphoto.com
SUMMARY:Circuito de Jerez – MotorExtemo
DESCRIPTION:Evento organizado por la empresa MotorExtremo en el circuito de Jerez.
URL:https://sensaphoto.com/evento/circuito-de-jerez-motorextemo-2/
LOCATION:Circuito de Jerez\, Carretera de Arcos-Jerez de la Frontera\, Km. 10\, Jerez de la Frontera\, Cádiz\, 11405\, España
ORGANIZER;CN="Motor Extremo":MAILTO:reservas@motorextremo.es
END:VEVENT
BEGIN:VEVENT
DTSTART;VALUE=DATE:20250420
DTEND;VALUE=DATE:20250421
DTSTAMP:20260423T121419
CREATED:20250121T210824Z
LAST-MODIFIED:20250121T210824Z
UID:1424-1745107200-1745193599@sensaphoto.com
SUMMARY:Circuito de Sevilla – MotorExtemo
DESCRIPTION:Evento organizado por la empresa MotorExtremo en el circuito de Sevilla.
URL:https://sensaphoto.com/evento/circuito-de-sevilla-motorextemo-6/
LOCATION:Circuito de Sevilla\, Carretera SE-3201\, Carmona\, Sevilla\, 41410\, España
ORGANIZER;CN="Motor Extremo":MAILTO:reservas@motorextremo.es
END:VEVENT
BEGIN:VEVENT
DTSTART;VALUE=DATE:20250419
DTEND;VALUE=DATE:20250420
DTSTAMP:20260423T121419
CREATED:20250121T210751Z
LAST-MODIFIED:20250121T210751Z
UID:1422-1745020800-1745107199@sensaphoto.com
SUMMARY:Circuito de Sevilla – MotorExtemo
DESCRIPTION:Evento organizado por la empresa MotorExtremo en el circuito de Sevilla.
URL:https://sensaphoto.com/evento/circuito-de-sevilla-motorextemo-5/
LOCATION:Circuito de Sevilla\, Carretera SE-3201\, Carmona\, Sevilla\, 41410\, España
ORGANIZER;CN="Motor Extremo":MAILTO:reservas@motorextremo.es
END:VEVENT
BEGIN:VEVENT
DTSTART;VALUE=DATE:20250418
DTEND;VALUE=DATE:20250419
DTSTAMP:20260423T121419
CREATED:20250121T210719Z
LAST-MODIFIED:20250121T210719Z
UID:1420-1744934400-1745020799@sensaphoto.com
SUMMARY:Circuito de Sevilla – MotorExtemo
DESCRIPTION:Evento organizado por la empresa MotorExtremo en el circuito de Sevilla.
URL:https://sensaphoto.com/evento/circuito-de-sevilla-motorextemo-4/
LOCATION:Circuito de Sevilla\, Carretera SE-3201\, Carmona\, Sevilla\, 41410\, España
ORGANIZER;CN="Motor Extremo":MAILTO:reservas@motorextremo.es
END:VEVENT
BEGIN:VEVENT
DTSTART;VALUE=DATE:20250413
DTEND;VALUE=DATE:20250414
DTSTAMP:20260423T121419
CREATED:20250121T210628Z
LAST-MODIFIED:20250121T210628Z
UID:1418-1744502400-1744588799@sensaphoto.com
SUMMARY:Circuito de Almería – MotorExtemo
DESCRIPTION:Evento organizado por la empresa MotorExtremo en el circuito de Almería
URL:https://sensaphoto.com/evento/circuito-de-almeria-motorextemo-40/
LOCATION:Circuito de Almeria\, Tabernas\, Almería\, 04200\, España
ORGANIZER;CN="Motor Extremo":MAILTO:reservas@motorextremo.es
END:VEVENT
BEGIN:VEVENT
DTSTART;VALUE=DATE:20250412
DTEND;VALUE=DATE:20250413
DTSTAMP:20260423T121419
CREATED:20250121T210556Z
LAST-MODIFIED:20250121T210556Z
UID:1416-1744416000-1744502399@sensaphoto.com
SUMMARY:Circuito de Almería – MotorExtemo
DESCRIPTION:Evento organizado por la empresa MotorExtremo en el circuito de Almería
URL:https://sensaphoto.com/evento/circuito-de-almeria-motorextemo-39/
LOCATION:Circuito de Almeria\, Tabernas\, Almería\, 04200\, España
ORGANIZER;CN="Motor Extremo":MAILTO:reservas@motorextremo.es
END:VEVENT
BEGIN:VEVENT
DTSTART;VALUE=DATE:20250411
DTEND;VALUE=DATE:20250412
DTSTAMP:20260423T121419
CREATED:20250121T210519Z
LAST-MODIFIED:20250121T210519Z
UID:1414-1744329600-1744415999@sensaphoto.com
SUMMARY:Circuito de Almería – MotorExtemo
DESCRIPTION:Evento organizado por la empresa MotorExtremo en el circuito de Almería
URL:https://sensaphoto.com/evento/circuito-de-almeria-motorextemo-38/
LOCATION:Circuito de Almeria\, Tabernas\, Almería\, 04200\, España
ORGANIZER;CN="Motor Extremo":MAILTO:reservas@motorextremo.es
END:VEVENT
BEGIN:VEVENT
DTSTART;VALUE=DATE:20250406
DTEND;VALUE=DATE:20250407
DTSTAMP:20260423T121419
CREATED:20250121T210428Z
LAST-MODIFIED:20250121T210428Z
UID:1412-1743897600-1743983999@sensaphoto.com
SUMMARY:Circuito de Almería – MotorExtemo
DESCRIPTION:Evento organizado por la empresa MotorExtremo en el circuito de Almería
URL:https://sensaphoto.com/evento/circuito-de-almeria-motorextemo-37/
LOCATION:Circuito de Almeria\, Tabernas\, Almería\, 04200\, España
ORGANIZER;CN="Motor Extremo":MAILTO:reservas@motorextremo.es
END:VEVENT
BEGIN:VEVENT
DTSTART;VALUE=DATE:20250405
DTEND;VALUE=DATE:20250406
DTSTAMP:20260423T121419
CREATED:20250121T210355Z
LAST-MODIFIED:20250121T210355Z
UID:1410-1743811200-1743897599@sensaphoto.com
SUMMARY:Circuito de Almería – MotorExtemo
DESCRIPTION:Evento organizado por la empresa MotorExtremo en el circuito de Almería.
URL:https://sensaphoto.com/evento/circuito-de-almeria-motorextemo-36/
LOCATION:Circuito de Almeria\, Tabernas\, Almería\, 04200\, España
ORGANIZER;CN="Motor Extremo":MAILTO:reservas@motorextremo.es
END:VEVENT
BEGIN:VEVENT
DTSTART;VALUE=DATE:20250404
DTEND;VALUE=DATE:20250405
DTSTAMP:20260423T121419
CREATED:20250121T210319Z
LAST-MODIFIED:20250121T210319Z
UID:1408-1743724800-1743811199@sensaphoto.com
SUMMARY:Circuito de Almería – MotorExtemo
DESCRIPTION:Evento organizado por la empresa MotorExtremo en el circuito de Almería.
URL:https://sensaphoto.com/evento/circuito-de-almeria-motorextemo-35/
LOCATION:Circuito de Almeria\, Tabernas\, Almería\, 04200\, España
ORGANIZER;CN="Motor Extremo":MAILTO:reservas@motorextremo.es
END:VEVENT
BEGIN:VEVENT
DTSTART;VALUE=DATE:20250330
DTEND;VALUE=DATE:20250331
DTSTAMP:20260423T121419
CREATED:20250121T210016Z
LAST-MODIFIED:20250121T210016Z
UID:1406-1743292800-1743379199@sensaphoto.com
SUMMARY:Circuito de Almería – MotorExtemo
DESCRIPTION:Evento organizado por la empresa MotorExtremo en el circuito de Almería.
URL:https://sensaphoto.com/evento/circuito-de-almeria-motorextemo-34/
LOCATION:Circuito de Almeria\, Tabernas\, Almería\, 04200\, España
ORGANIZER;CN="Motor Extremo":MAILTO:reservas@motorextremo.es
END:VEVENT
BEGIN:VEVENT
DTSTART;VALUE=DATE:20250329
DTEND;VALUE=DATE:20250330
DTSTAMP:20260423T121419
CREATED:20250121T205942Z
LAST-MODIFIED:20250121T205942Z
UID:1404-1743206400-1743292799@sensaphoto.com
SUMMARY:Circuito de Almería – MotorExtemo
DESCRIPTION:Evento organizado por la empresa MotorExtremo en el circuito de Almería.
URL:https://sensaphoto.com/evento/circuito-de-almeria-motorextemo-33/
LOCATION:Circuito de Almeria\, Tabernas\, Almería\, 04200\, España
ORGANIZER;CN="Motor Extremo":MAILTO:reservas@motorextremo.es
END:VEVENT
BEGIN:VEVENT
DTSTART;VALUE=DATE:20250328
DTEND;VALUE=DATE:20250329
DTSTAMP:20260423T121419
CREATED:20250121T205900Z
LAST-MODIFIED:20250121T205900Z
UID:1402-1743120000-1743206399@sensaphoto.com
SUMMARY:Circuito de Almería – MotorExtemo
DESCRIPTION:Evento organizado por la empresa MotorExtremo en el circuito de Almería.
URL:https://sensaphoto.com/evento/circuito-de-almeria-motorextemo-32/
LOCATION:Circuito de Almeria\, Tabernas\, Almería\, 04200\, España
ORGANIZER;CN="Motor Extremo":MAILTO:reservas@motorextremo.es
END:VEVENT
BEGIN:VEVENT
DTSTART;VALUE=DATE:20250325
DTEND;VALUE=DATE:20250329
DTSTAMP:20260423T121419
CREATED:20250121T205802Z
LAST-MODIFIED:20250121T205802Z
UID:1400-1742860800-1743206399@sensaphoto.com
SUMMARY:Circuito de Cartagena – Circuit Fun
DESCRIPTION:Evento organizado por la empresa Circuito Fun en el circuito de Cartagena.
URL:https://sensaphoto.com/evento/circuito-de-cartagena-circuit-fun-2/
LOCATION:Circuito de Cartagena\, Ctra. A la Aljorra\, Km 2\, 600\, Cartagena\, Murcia\, 30391\, España
ORGANIZER;CN="Circuit Fun":MAILTO:info@circuitfun.be
END:VEVENT
BEGIN:VEVENT
DTSTART;VALUE=DATE:20250322
DTEND;VALUE=DATE:20250323
DTSTAMP:20260423T121419
CREATED:20250121T205652Z
LAST-MODIFIED:20250121T205652Z
UID:1398-1742601600-1742687999@sensaphoto.com
SUMMARY:Circuito de Sevilla – MotorExtremo
DESCRIPTION:Evento organizado por la empresa MotorExtremo en el circuito de Sevilla
URL:https://sensaphoto.com/evento/circuito-de-sevilla-motorextremo-9/
LOCATION:Circuito de Sevilla\, Carretera SE-3201\, Carmona\, Sevilla\, 41410\, España
ORGANIZER;CN="Motor Extremo":MAILTO:reservas@motorextremo.es
END:VEVENT
END:VCALENDAR