BEGIN:VCALENDAR
VERSION:2.0
PRODID:-//Sensaphoto fotografía deportiva - ECPv6.6.2//NONSGML v1.0//EN
CALSCALE:GREGORIAN
METHOD:PUBLISH
X-ORIGINAL-URL:https://sensaphoto.com
X-WR-CALDESC:Eventos para Sensaphoto fotografía deportiva
REFRESH-INTERVAL;VALUE=DURATION:PT1H
X-Robots-Tag:noindex
X-PUBLISHED-TTL:PT1H
BEGIN:VTIMEZONE
TZID:Europe/Madrid
BEGIN:DAYLIGHT
TZOFFSETFROM:+0100
TZOFFSETTO:+0200
TZNAME:CEST
DTSTART:20240331T010000
END:DAYLIGHT
BEGIN:STANDARD
TZOFFSETFROM:+0200
TZOFFSETTO:+0100
TZNAME:CET
DTSTART:20241027T010000
END:STANDARD
BEGIN:DAYLIGHT
TZOFFSETFROM:+0100
TZOFFSETTO:+0200
TZNAME:CEST
DTSTART:20250330T010000
END:DAYLIGHT
BEGIN:STANDARD
TZOFFSETFROM:+0200
TZOFFSETTO:+0100
TZNAME:CET
DTSTART:20251026T010000
END:STANDARD
END:VTIMEZONE
BEGIN:VEVENT
DTSTART;VALUE=DATE:20250412
DTEND;VALUE=DATE:20250413
DTSTAMP:20260423T151415
CREATED:20250121T210556Z
LAST-MODIFIED:20250121T210556Z
UID:1416-1744416000-1744502399@sensaphoto.com
SUMMARY:Circuito de Almería – MotorExtemo
DESCRIPTION:Evento organizado por la empresa MotorExtremo en el circuito de Almería
URL:https://sensaphoto.com/evento/circuito-de-almeria-motorextemo-39/
LOCATION:Circuito de Almeria\, Tabernas\, Almería\, 04200\, España
ORGANIZER;CN="Motor Extremo":MAILTO:reservas@motorextremo.es
END:VEVENT
BEGIN:VEVENT
DTSTART;VALUE=DATE:20250411
DTEND;VALUE=DATE:20250412
DTSTAMP:20260423T151415
CREATED:20250121T210519Z
LAST-MODIFIED:20250121T210519Z
UID:1414-1744329600-1744415999@sensaphoto.com
SUMMARY:Circuito de Almería – MotorExtemo
DESCRIPTION:Evento organizado por la empresa MotorExtremo en el circuito de Almería
URL:https://sensaphoto.com/evento/circuito-de-almeria-motorextemo-38/
LOCATION:Circuito de Almeria\, Tabernas\, Almería\, 04200\, España
ORGANIZER;CN="Motor Extremo":MAILTO:reservas@motorextremo.es
END:VEVENT
BEGIN:VEVENT
DTSTART;VALUE=DATE:20250406
DTEND;VALUE=DATE:20250407
DTSTAMP:20260423T151415
CREATED:20250121T210428Z
LAST-MODIFIED:20250121T210428Z
UID:1412-1743897600-1743983999@sensaphoto.com
SUMMARY:Circuito de Almería – MotorExtemo
DESCRIPTION:Evento organizado por la empresa MotorExtremo en el circuito de Almería
URL:https://sensaphoto.com/evento/circuito-de-almeria-motorextemo-37/
LOCATION:Circuito de Almeria\, Tabernas\, Almería\, 04200\, España
ORGANIZER;CN="Motor Extremo":MAILTO:reservas@motorextremo.es
END:VEVENT
BEGIN:VEVENT
DTSTART;VALUE=DATE:20250405
DTEND;VALUE=DATE:20250406
DTSTAMP:20260423T151415
CREATED:20250121T210355Z
LAST-MODIFIED:20250121T210355Z
UID:1410-1743811200-1743897599@sensaphoto.com
SUMMARY:Circuito de Almería – MotorExtemo
DESCRIPTION:Evento organizado por la empresa MotorExtremo en el circuito de Almería.
URL:https://sensaphoto.com/evento/circuito-de-almeria-motorextemo-36/
LOCATION:Circuito de Almeria\, Tabernas\, Almería\, 04200\, España
ORGANIZER;CN="Motor Extremo":MAILTO:reservas@motorextremo.es
END:VEVENT
BEGIN:VEVENT
DTSTART;VALUE=DATE:20250404
DTEND;VALUE=DATE:20250405
DTSTAMP:20260423T151415
CREATED:20250121T210319Z
LAST-MODIFIED:20250121T210319Z
UID:1408-1743724800-1743811199@sensaphoto.com
SUMMARY:Circuito de Almería – MotorExtemo
DESCRIPTION:Evento organizado por la empresa MotorExtremo en el circuito de Almería.
URL:https://sensaphoto.com/evento/circuito-de-almeria-motorextemo-35/
LOCATION:Circuito de Almeria\, Tabernas\, Almería\, 04200\, España
ORGANIZER;CN="Motor Extremo":MAILTO:reservas@motorextremo.es
END:VEVENT
BEGIN:VEVENT
DTSTART;VALUE=DATE:20250330
DTEND;VALUE=DATE:20250331
DTSTAMP:20260423T151415
CREATED:20250121T210016Z
LAST-MODIFIED:20250121T210016Z
UID:1406-1743292800-1743379199@sensaphoto.com
SUMMARY:Circuito de Almería – MotorExtemo
DESCRIPTION:Evento organizado por la empresa MotorExtremo en el circuito de Almería.
URL:https://sensaphoto.com/evento/circuito-de-almeria-motorextemo-34/
LOCATION:Circuito de Almeria\, Tabernas\, Almería\, 04200\, España
ORGANIZER;CN="Motor Extremo":MAILTO:reservas@motorextremo.es
END:VEVENT
BEGIN:VEVENT
DTSTART;VALUE=DATE:20250329
DTEND;VALUE=DATE:20250330
DTSTAMP:20260423T151415
CREATED:20250121T205942Z
LAST-MODIFIED:20250121T205942Z
UID:1404-1743206400-1743292799@sensaphoto.com
SUMMARY:Circuito de Almería – MotorExtemo
DESCRIPTION:Evento organizado por la empresa MotorExtremo en el circuito de Almería.
URL:https://sensaphoto.com/evento/circuito-de-almeria-motorextemo-33/
LOCATION:Circuito de Almeria\, Tabernas\, Almería\, 04200\, España
ORGANIZER;CN="Motor Extremo":MAILTO:reservas@motorextremo.es
END:VEVENT
BEGIN:VEVENT
DTSTART;VALUE=DATE:20250328
DTEND;VALUE=DATE:20250329
DTSTAMP:20260423T151415
CREATED:20250121T205900Z
LAST-MODIFIED:20250121T205900Z
UID:1402-1743120000-1743206399@sensaphoto.com
SUMMARY:Circuito de Almería – MotorExtemo
DESCRIPTION:Evento organizado por la empresa MotorExtremo en el circuito de Almería.
URL:https://sensaphoto.com/evento/circuito-de-almeria-motorextemo-32/
LOCATION:Circuito de Almeria\, Tabernas\, Almería\, 04200\, España
ORGANIZER;CN="Motor Extremo":MAILTO:reservas@motorextremo.es
END:VEVENT
BEGIN:VEVENT
DTSTART;VALUE=DATE:20250325
DTEND;VALUE=DATE:20250329
DTSTAMP:20260423T151415
CREATED:20250121T205802Z
LAST-MODIFIED:20250121T205802Z
UID:1400-1742860800-1743206399@sensaphoto.com
SUMMARY:Circuito de Cartagena – Circuit Fun
DESCRIPTION:Evento organizado por la empresa Circuito Fun en el circuito de Cartagena.
URL:https://sensaphoto.com/evento/circuito-de-cartagena-circuit-fun-2/
LOCATION:Circuito de Cartagena\, Ctra. A la Aljorra\, Km 2\, 600\, Cartagena\, Murcia\, 30391\, España
ORGANIZER;CN="Circuit Fun":MAILTO:info@circuitfun.be
END:VEVENT
BEGIN:VEVENT
DTSTART;VALUE=DATE:20250322
DTEND;VALUE=DATE:20250323
DTSTAMP:20260423T151415
CREATED:20250121T205652Z
LAST-MODIFIED:20250121T205652Z
UID:1398-1742601600-1742687999@sensaphoto.com
SUMMARY:Circuito de Sevilla – MotorExtremo
DESCRIPTION:Evento organizado por la empresa MotorExtremo en el circuito de Sevilla
URL:https://sensaphoto.com/evento/circuito-de-sevilla-motorextremo-9/
LOCATION:Circuito de Sevilla\, Carretera SE-3201\, Carmona\, Sevilla\, 41410\, España
ORGANIZER;CN="Motor Extremo":MAILTO:reservas@motorextremo.es
END:VEVENT
BEGIN:VEVENT
DTSTART;VALUE=DATE:20250321
DTEND;VALUE=DATE:20250322
DTSTAMP:20260423T151415
CREATED:20250121T205605Z
LAST-MODIFIED:20250121T205605Z
UID:1396-1742515200-1742601599@sensaphoto.com
SUMMARY:Circuito de Sevilla – MotorExtremo
DESCRIPTION:Evento organizado por la empresa MotorExtremo en el circuito de Sevilla.
URL:https://sensaphoto.com/evento/circuito-de-sevilla-motorextremo-8/
LOCATION:Circuito de Sevilla\, Carretera SE-3201\, Carmona\, Sevilla\, 41410\, España
ORGANIZER;CN="Motor Extremo":MAILTO:reservas@motorextremo.es
END:VEVENT
BEGIN:VEVENT
DTSTART;VALUE=DATE:20250316
DTEND;VALUE=DATE:20250319
DTSTAMP:20260423T151415
CREATED:20250121T205442Z
LAST-MODIFIED:20250121T205442Z
UID:1394-1742083200-1742342399@sensaphoto.com
SUMMARY:Circuito de Motorland – Motorraid
DESCRIPTION:Evento organizado por la empresa Motorraid en el circuito de Motorland.
URL:https://sensaphoto.com/evento/circuito-de-motorland-motorraid-2/
LOCATION:Circuito de Motorland\, Ctra. A-2404\, km 1\, Alcañiz\, Teruel\, 44600
END:VEVENT
BEGIN:VEVENT
DTSTART;VALUE=DATE:20250316
DTEND;VALUE=DATE:20250317
DTSTAMP:20260423T151415
CREATED:20250121T205335Z
LAST-MODIFIED:20250121T205335Z
UID:1392-1742083200-1742169599@sensaphoto.com
SUMMARY:Circuito de Almería – MotorExtemo
DESCRIPTION:Evento organizado por la empresa MotorExtremo en el circuito de Almería.
URL:https://sensaphoto.com/evento/circuito-de-almeria-motorextemo-31/
LOCATION:Circuito de Almeria\, Tabernas\, Almería\, 04200\, España
ORGANIZER;CN="Motor Extremo":MAILTO:reservas@motorextremo.es
END:VEVENT
BEGIN:VEVENT
DTSTART;VALUE=DATE:20250315
DTEND;VALUE=DATE:20250316
DTSTAMP:20260423T151415
CREATED:20250121T205304Z
LAST-MODIFIED:20250121T205304Z
UID:1390-1741996800-1742083199@sensaphoto.com
SUMMARY:Circuito de Almería – MotorExtemo
DESCRIPTION:Evento organizado por la empresa MotorExtremo en el circuito de Almería.
URL:https://sensaphoto.com/evento/circuito-de-almeria-motorextemo-30/
LOCATION:Circuito de Almeria\, Tabernas\, Almería\, 04200\, España
ORGANIZER;CN="Motor Extremo":MAILTO:reservas@motorextremo.es
END:VEVENT
BEGIN:VEVENT
DTSTART;VALUE=DATE:20250309
DTEND;VALUE=DATE:20250310
DTSTAMP:20260423T151415
CREATED:20250121T205028Z
LAST-MODIFIED:20250121T205028Z
UID:1388-1741478400-1741564799@sensaphoto.com
SUMMARY:Circuito de Almería – MotorExtemo
DESCRIPTION:Evento organizado por la empresa MotorExtremo en el circuito de Almería
URL:https://sensaphoto.com/evento/circuito-de-almeria-motorextemo-29/
LOCATION:Circuito de Almeria\, Tabernas\, Almería\, 04200\, España
ORGANIZER;CN="Motor Extremo":MAILTO:reservas@motorextremo.es
END:VEVENT
BEGIN:VEVENT
DTSTART;VALUE=DATE:20250308
DTEND;VALUE=DATE:20250309
DTSTAMP:20260423T151415
CREATED:20250121T204959Z
LAST-MODIFIED:20250121T204959Z
UID:1386-1741392000-1741478399@sensaphoto.com
SUMMARY:Circuito de Almería – MotorExtemo
DESCRIPTION:Evento organizado por la empresa MotorExtremo en el circuito de Almería.
URL:https://sensaphoto.com/evento/circuito-de-almeria-motorextemo-28/
LOCATION:Circuito de Almeria\, Tabernas\, Almería\, 04200\, España
ORGANIZER;CN="Motor Extremo":MAILTO:reservas@motorextremo.es
END:VEVENT
BEGIN:VEVENT
DTSTART;VALUE=DATE:20250307
DTEND;VALUE=DATE:20250308
DTSTAMP:20260423T151415
CREATED:20250121T204914Z
LAST-MODIFIED:20250121T204914Z
UID:1384-1741305600-1741391999@sensaphoto.com
SUMMARY:Circuito de Almería – MotorExtemo
DESCRIPTION:Evento organizado por la empresa MotorExtremo en el circuito de Almería.
URL:https://sensaphoto.com/evento/circuito-de-almeria-motorextemo-27/
LOCATION:Circuito de Almeria\, Tabernas\, Almería\, 04200\, España
ORGANIZER;CN="Motor Extremo":MAILTO:reservas@motorextremo.es
END:VEVENT
BEGIN:VEVENT
DTSTART;VALUE=DATE:20250226
DTEND;VALUE=DATE:20250301
DTSTAMP:20260423T151415
CREATED:20250121T203659Z
LAST-MODIFIED:20250121T203659Z
UID:1382-1740528000-1740787199@sensaphoto.com
SUMMARY:Circuito de Andalucía – RedLine
DESCRIPTION:Evento organizado por la empresa RedLine en el circuito de Andalucía.
URL:https://sensaphoto.com/evento/circuito-de-andalucia-redline/
LOCATION:Circuito de Andalucía\, Tabernas\, Almería\, España
END:VEVENT
BEGIN:VEVENT
DTSTART;VALUE=DATE:20250222
DTEND;VALUE=DATE:20250223
DTSTAMP:20260423T151415
CREATED:20250121T203540Z
LAST-MODIFIED:20250121T203540Z
UID:1380-1740182400-1740268799@sensaphoto.com
SUMMARY:Circuito de Sevilla – MotorExtemo
DESCRIPTION:Evento organizado por la empresa MotorExtremo en el circuito de Sevilla.
URL:https://sensaphoto.com/evento/circuito-de-sevilla-motorextemo-3/
LOCATION:Circuito de Sevilla\, Carretera SE-3201\, Carmona\, Sevilla\, 41410\, España
ORGANIZER;CN="Motor Extremo":MAILTO:reservas@motorextremo.es
END:VEVENT
BEGIN:VEVENT
DTSTART;VALUE=DATE:20250221
DTEND;VALUE=DATE:20250222
DTSTAMP:20260423T151415
CREATED:20250121T203455Z
LAST-MODIFIED:20250121T203455Z
UID:1378-1740096000-1740182399@sensaphoto.com
SUMMARY:Circuito de Sevilla – MotorExtemo
DESCRIPTION:Evento organizado por la empresa MotorExtremo en el circuito de Sevilla.
URL:https://sensaphoto.com/evento/circuito-de-sevilla-motorextemo-2/
LOCATION:Circuito de Sevilla\, Carretera SE-3201\, Carmona\, Sevilla\, 41410\, España
ORGANIZER;CN="Motor Extremo":MAILTO:reservas@motorextremo.es
END:VEVENT
BEGIN:VEVENT
DTSTART;VALUE=DATE:20250216
DTEND;VALUE=DATE:20250217
DTSTAMP:20260423T151415
CREATED:20250121T203350Z
LAST-MODIFIED:20250121T203350Z
UID:1376-1739664000-1739750399@sensaphoto.com
SUMMARY:Circuito de Jerez – MotorExtemo
DESCRIPTION:Evento organizado por la empresa MotorExtremo en el circuito de Jerez.
URL:https://sensaphoto.com/evento/circuito-de-jerez-motorextemo/
LOCATION:Circuito de Jerez\, Carretera de Arcos-Jerez de la Frontera\, Km. 10\, Jerez de la Frontera\, Cádiz\, 11405\, España
ORGANIZER;CN="Motor Extremo":MAILTO:reservas@motorextremo.es
END:VEVENT
BEGIN:VEVENT
DTSTART;VALUE=DATE:20250209
DTEND;VALUE=DATE:20250210
DTSTAMP:20260423T151415
CREATED:20250121T202736Z
LAST-MODIFIED:20250121T202736Z
UID:1374-1739059200-1739145599@sensaphoto.com
SUMMARY:Circuito de Almería – MotorExtemo
DESCRIPTION:Evento organizado por la empresa MotorExtremo en el circuito de Almería.
URL:https://sensaphoto.com/evento/circuito-de-almeria-motorextemo-26/
LOCATION:Circuito de Almeria\, Tabernas\, Almería\, 04200\, España
ORGANIZER;CN="Motor Extremo":MAILTO:reservas@motorextremo.es
END:VEVENT
BEGIN:VEVENT
DTSTART;VALUE=DATE:20250208
DTEND;VALUE=DATE:20250209
DTSTAMP:20260423T151415
CREATED:20250121T202502Z
LAST-MODIFIED:20250121T202502Z
UID:1368-1738972800-1739059199@sensaphoto.com
SUMMARY:Circuito de Almería – MotorExtemo
DESCRIPTION:Evento organizado por la empresa MotorExtremo en el circuito de Almería.
URL:https://sensaphoto.com/evento/circuito-de-almeria-motorextemo-25/
LOCATION:Circuito de Almeria\, Tabernas\, Almería\, 04200\, España
ORGANIZER;CN="Motor Extremo":MAILTO:reservas@motorextremo.es
END:VEVENT
BEGIN:VEVENT
DTSTART;VALUE=DATE:20250207
DTEND;VALUE=DATE:20250208
DTSTAMP:20260423T151415
CREATED:20250121T202553Z
LAST-MODIFIED:20250121T202654Z
UID:1370-1738886400-1738972799@sensaphoto.com
SUMMARY:Circuito de Almería – MotorExtemo
DESCRIPTION:Evento organizado por la empresa MotorExtremo en el circuito de Almería.
URL:https://sensaphoto.com/evento/1370/
LOCATION:Circuito de Almeria\, Tabernas\, Almería\, 04200\, España
ORGANIZER;CN="Motor Extremo":MAILTO:reservas@motorextremo.es
END:VEVENT
BEGIN:VEVENT
DTSTART;VALUE=DATE:20250203
DTEND;VALUE=DATE:20250207
DTSTAMP:20260423T151415
CREATED:20250121T202345Z
LAST-MODIFIED:20250121T202345Z
UID:1366-1738540800-1738886399@sensaphoto.com
SUMMARY:Circuito de Almería – Motorraid
DESCRIPTION:Evento organizado por la empresa Motorrais en el circuito de Almería
URL:https://sensaphoto.com/evento/circuito-de-almeria-motorraid/
LOCATION:Circuito de Almeria\, Tabernas\, Almería\, 04200\, España
END:VEVENT
BEGIN:VEVENT
DTSTART;VALUE=DATE:20250126
DTEND;VALUE=DATE:20250127
DTSTAMP:20260423T151415
CREATED:20250121T201926Z
LAST-MODIFIED:20250121T201926Z
UID:1362-1737849600-1737935999@sensaphoto.com
SUMMARY:Circuito de Almería – MotorExtremo
DESCRIPTION:Evento organizado por la empresa MotorExtremo en el circuito de Almería.
URL:https://sensaphoto.com/evento/circuito-de-almeria-motorextremo-12/
LOCATION:Circuito de Almeria\, Tabernas\, Almería\, 04200\, España
ORGANIZER;CN="Motor Extremo":MAILTO:reservas@motorextremo.es
END:VEVENT
BEGIN:VEVENT
DTSTART;VALUE=DATE:20250125
DTEND;VALUE=DATE:20250126
DTSTAMP:20260423T151415
CREATED:20250121T201747Z
LAST-MODIFIED:20250121T201748Z
UID:1359-1737763200-1737849599@sensaphoto.com
SUMMARY:Circuito de Almería – MotorExtremo
DESCRIPTION:Evento organizado por la empresa MotorExtremo en el circuito de Almería.
URL:https://sensaphoto.com/evento/circuito-de-almeria-motorextremo-11/
LOCATION:Circuito de Almeria\, Tabernas\, Almería\, 04200\, España
ORGANIZER;CN="Motor Extremo":MAILTO:reservas@motorextremo.es
END:VEVENT
BEGIN:VEVENT
DTSTART;VALUE=DATE:20240811
DTEND;VALUE=DATE:20240812
DTSTAMP:20260423T151415
CREATED:20240417T142845Z
LAST-MODIFIED:20240417T142845Z
UID:1343-1723334400-1723420799@sensaphoto.com
SUMMARY:Circuito de Motorland – MotorExtremo
DESCRIPTION:Evento organizado por la empresa MotorExtremo en el circuito de Motorland el día 10 de Agosto de 2024
URL:https://sensaphoto.com/evento/circuito-de-motorland-motorextremo-2/
LOCATION:Circuito de Motorland\, Ctra. A-2404\, km 1\, Alcañiz\, Teruel\, 44600
CATEGORIES:Circuitos
ORGANIZER;CN="Motor Extremo":MAILTO:reservas@motorextremo.es
END:VEVENT
BEGIN:VEVENT
DTSTART;VALUE=DATE:20240810
DTEND;VALUE=DATE:20240811
DTSTAMP:20260423T151415
CREATED:20240417T142722Z
LAST-MODIFIED:20240417T142722Z
UID:1341-1723248000-1723334399@sensaphoto.com
SUMMARY:Circuito de Motorland – MotorExtremo
DESCRIPTION:Evento organizado por la empresa MotorExtremo en el circuito de Motorland el día 10 de Agosto de 2024
URL:https://sensaphoto.com/evento/circuito-de-motorland-motorextremo/
LOCATION:Circuito de Motorland\, Ctra. A-2404\, km 1\, Alcañiz\, Teruel\, 44600
CATEGORIES:Circuitos
ORGANIZER;CN="Motor Extremo":MAILTO:reservas@motorextremo.es
END:VEVENT
BEGIN:VEVENT
DTSTART;VALUE=DATE:20240809
DTEND;VALUE=DATE:20240812
DTSTAMP:20260423T151415
CREATED:20240417T142315Z
LAST-MODIFIED:20240417T142326Z
UID:1337-1723161600-1723420799@sensaphoto.com
SUMMARY:Circuito de Magny Cours – EYBIS
DESCRIPTION:Evento organizado por la empresa belga EYBIS en el circuito de Magny Cours el día los días 9\, 10 y 11 de Agosto del 2024.
URL:https://sensaphoto.com/evento/circuito-de-magny-cours-eybis/
LOCATION:Circuito de Magny Cours\, Technopôle\, CS 80001 F-58471\, Magny Cours\, 58471\, Francia
CATEGORIES:Circuitos
ATTACH;FMTTYPE=image/jpeg:https://sensaphoto.com/wp-content/uploads/2023/12/JLR4815-scaled.jpg
END:VEVENT
END:VCALENDAR