BEGIN:VCALENDAR
VERSION:2.0
PRODID:-//Sensaphoto fotografía deportiva - ECPv6.6.2//NONSGML v1.0//EN
CALSCALE:GREGORIAN
METHOD:PUBLISH
X-ORIGINAL-URL:https://sensaphoto.com
X-WR-CALDESC:Eventos para Sensaphoto fotografía deportiva
REFRESH-INTERVAL;VALUE=DURATION:PT1H
X-Robots-Tag:noindex
X-PUBLISHED-TTL:PT1H
BEGIN:VTIMEZONE
TZID:Europe/Madrid
BEGIN:DAYLIGHT
TZOFFSETFROM:+0100
TZOFFSETTO:+0200
TZNAME:CEST
DTSTART:20240331T010000
END:DAYLIGHT
BEGIN:STANDARD
TZOFFSETFROM:+0200
TZOFFSETTO:+0100
TZNAME:CET
DTSTART:20241027T010000
END:STANDARD
BEGIN:DAYLIGHT
TZOFFSETFROM:+0100
TZOFFSETTO:+0200
TZNAME:CEST
DTSTART:20250330T010000
END:DAYLIGHT
BEGIN:STANDARD
TZOFFSETFROM:+0200
TZOFFSETTO:+0100
TZNAME:CET
DTSTART:20251026T010000
END:STANDARD
END:VTIMEZONE
BEGIN:VEVENT
DTSTART;VALUE=DATE:20250216
DTEND;VALUE=DATE:20250217
DTSTAMP:20260423T184334
CREATED:20250121T203350Z
LAST-MODIFIED:20250121T203350Z
UID:1376-1739664000-1739750399@sensaphoto.com
SUMMARY:Circuito de Jerez – MotorExtemo
DESCRIPTION:Evento organizado por la empresa MotorExtremo en el circuito de Jerez.
URL:https://sensaphoto.com/evento/circuito-de-jerez-motorextemo/
LOCATION:Circuito de Jerez\, Carretera de Arcos-Jerez de la Frontera\, Km. 10\, Jerez de la Frontera\, Cádiz\, 11405\, España
ORGANIZER;CN="Motor Extremo":MAILTO:reservas@motorextremo.es
END:VEVENT
BEGIN:VEVENT
DTSTART;VALUE=DATE:20250209
DTEND;VALUE=DATE:20250210
DTSTAMP:20260423T184334
CREATED:20250121T202736Z
LAST-MODIFIED:20250121T202736Z
UID:1374-1739059200-1739145599@sensaphoto.com
SUMMARY:Circuito de Almería – MotorExtemo
DESCRIPTION:Evento organizado por la empresa MotorExtremo en el circuito de Almería.
URL:https://sensaphoto.com/evento/circuito-de-almeria-motorextemo-26/
LOCATION:Circuito de Almeria\, Tabernas\, Almería\, 04200\, España
ORGANIZER;CN="Motor Extremo":MAILTO:reservas@motorextremo.es
END:VEVENT
BEGIN:VEVENT
DTSTART;VALUE=DATE:20250208
DTEND;VALUE=DATE:20250209
DTSTAMP:20260423T184334
CREATED:20250121T202502Z
LAST-MODIFIED:20250121T202502Z
UID:1368-1738972800-1739059199@sensaphoto.com
SUMMARY:Circuito de Almería – MotorExtemo
DESCRIPTION:Evento organizado por la empresa MotorExtremo en el circuito de Almería.
URL:https://sensaphoto.com/evento/circuito-de-almeria-motorextemo-25/
LOCATION:Circuito de Almeria\, Tabernas\, Almería\, 04200\, España
ORGANIZER;CN="Motor Extremo":MAILTO:reservas@motorextremo.es
END:VEVENT
BEGIN:VEVENT
DTSTART;VALUE=DATE:20250207
DTEND;VALUE=DATE:20250208
DTSTAMP:20260423T184334
CREATED:20250121T202553Z
LAST-MODIFIED:20250121T202654Z
UID:1370-1738886400-1738972799@sensaphoto.com
SUMMARY:Circuito de Almería – MotorExtemo
DESCRIPTION:Evento organizado por la empresa MotorExtremo en el circuito de Almería.
URL:https://sensaphoto.com/evento/1370/
LOCATION:Circuito de Almeria\, Tabernas\, Almería\, 04200\, España
ORGANIZER;CN="Motor Extremo":MAILTO:reservas@motorextremo.es
END:VEVENT
BEGIN:VEVENT
DTSTART;VALUE=DATE:20250203
DTEND;VALUE=DATE:20250207
DTSTAMP:20260423T184334
CREATED:20250121T202345Z
LAST-MODIFIED:20250121T202345Z
UID:1366-1738540800-1738886399@sensaphoto.com
SUMMARY:Circuito de Almería – Motorraid
DESCRIPTION:Evento organizado por la empresa Motorrais en el circuito de Almería
URL:https://sensaphoto.com/evento/circuito-de-almeria-motorraid/
LOCATION:Circuito de Almeria\, Tabernas\, Almería\, 04200\, España
END:VEVENT
BEGIN:VEVENT
DTSTART;VALUE=DATE:20250126
DTEND;VALUE=DATE:20250127
DTSTAMP:20260423T184334
CREATED:20250121T201926Z
LAST-MODIFIED:20250121T201926Z
UID:1362-1737849600-1737935999@sensaphoto.com
SUMMARY:Circuito de Almería – MotorExtremo
DESCRIPTION:Evento organizado por la empresa MotorExtremo en el circuito de Almería.
URL:https://sensaphoto.com/evento/circuito-de-almeria-motorextremo-12/
LOCATION:Circuito de Almeria\, Tabernas\, Almería\, 04200\, España
ORGANIZER;CN="Motor Extremo":MAILTO:reservas@motorextremo.es
END:VEVENT
BEGIN:VEVENT
DTSTART;VALUE=DATE:20250125
DTEND;VALUE=DATE:20250126
DTSTAMP:20260423T184334
CREATED:20250121T201747Z
LAST-MODIFIED:20250121T201748Z
UID:1359-1737763200-1737849599@sensaphoto.com
SUMMARY:Circuito de Almería – MotorExtremo
DESCRIPTION:Evento organizado por la empresa MotorExtremo en el circuito de Almería.
URL:https://sensaphoto.com/evento/circuito-de-almeria-motorextremo-11/
LOCATION:Circuito de Almeria\, Tabernas\, Almería\, 04200\, España
ORGANIZER;CN="Motor Extremo":MAILTO:reservas@motorextremo.es
END:VEVENT
BEGIN:VEVENT
DTSTART;VALUE=DATE:20240811
DTEND;VALUE=DATE:20240812
DTSTAMP:20260423T184334
CREATED:20240417T142845Z
LAST-MODIFIED:20240417T142845Z
UID:1343-1723334400-1723420799@sensaphoto.com
SUMMARY:Circuito de Motorland – MotorExtremo
DESCRIPTION:Evento organizado por la empresa MotorExtremo en el circuito de Motorland el día 10 de Agosto de 2024
URL:https://sensaphoto.com/evento/circuito-de-motorland-motorextremo-2/
LOCATION:Circuito de Motorland\, Ctra. A-2404\, km 1\, Alcañiz\, Teruel\, 44600
CATEGORIES:Circuitos
ORGANIZER;CN="Motor Extremo":MAILTO:reservas@motorextremo.es
END:VEVENT
BEGIN:VEVENT
DTSTART;VALUE=DATE:20240810
DTEND;VALUE=DATE:20240811
DTSTAMP:20260423T184334
CREATED:20240417T142722Z
LAST-MODIFIED:20240417T142722Z
UID:1341-1723248000-1723334399@sensaphoto.com
SUMMARY:Circuito de Motorland – MotorExtremo
DESCRIPTION:Evento organizado por la empresa MotorExtremo en el circuito de Motorland el día 10 de Agosto de 2024
URL:https://sensaphoto.com/evento/circuito-de-motorland-motorextremo/
LOCATION:Circuito de Motorland\, Ctra. A-2404\, km 1\, Alcañiz\, Teruel\, 44600
CATEGORIES:Circuitos
ORGANIZER;CN="Motor Extremo":MAILTO:reservas@motorextremo.es
END:VEVENT
BEGIN:VEVENT
DTSTART;VALUE=DATE:20240809
DTEND;VALUE=DATE:20240812
DTSTAMP:20260423T184334
CREATED:20240417T142315Z
LAST-MODIFIED:20240417T142326Z
UID:1337-1723161600-1723420799@sensaphoto.com
SUMMARY:Circuito de Magny Cours – EYBIS
DESCRIPTION:Evento organizado por la empresa belga EYBIS en el circuito de Magny Cours el día los días 9\, 10 y 11 de Agosto del 2024.
URL:https://sensaphoto.com/evento/circuito-de-magny-cours-eybis/
LOCATION:Circuito de Magny Cours\, Technopôle\, CS 80001 F-58471\, Magny Cours\, 58471\, Francia
CATEGORIES:Circuitos
ATTACH;FMTTYPE=image/jpeg:https://sensaphoto.com/wp-content/uploads/2023/12/JLR4815-scaled.jpg
END:VEVENT
BEGIN:VEVENT
DTSTART;VALUE=DATE:20240714
DTEND;VALUE=DATE:20240715
DTSTAMP:20260423T184334
CREATED:20240209T114311Z
LAST-MODIFIED:20240209T114311Z
UID:1333-1720915200-1721001599@sensaphoto.com
SUMMARY:Circuito de Portimao – MotorExtemo
DESCRIPTION:Evento organizado por la empresa MotorExtremo en el circuito de Portimao el día 14 de Julio del 2024.
URL:https://sensaphoto.com/evento/circuito-de-portimao-motorextemo-2/
LOCATION:Circuito de Portimao\, Mexilhoeira Grande\, Portimao\, 8500-148\, Portugal
CATEGORIES:Circuitos
ATTACH;FMTTYPE=image/jpeg:https://sensaphoto.com/wp-content/uploads/2024/02/JE37443-scaled.jpg
ORGANIZER;CN="Motor Extremo":MAILTO:reservas@motorextremo.es
END:VEVENT
BEGIN:VEVENT
DTSTART;VALUE=DATE:20240713
DTEND;VALUE=DATE:20240714
DTSTAMP:20260423T184334
CREATED:20240209T114114Z
LAST-MODIFIED:20240209T114114Z
UID:1330-1720828800-1720915199@sensaphoto.com
SUMMARY:Circuito de Portimao – MotorExtemo
DESCRIPTION:Evento organizado por la empresa MotorExtremo en el circuito de Portimao el día 13 de Julio del 2024.
URL:https://sensaphoto.com/evento/circuito-de-portimao-motorextemo/
LOCATION:Circuito de Portimao\, Mexilhoeira Grande\, Portimao\, 8500-148\, Portugal
ATTACH;FMTTYPE=image/jpeg:https://sensaphoto.com/wp-content/uploads/2024/02/JE36788-scaled.jpg
ORGANIZER;CN="Motor Extremo":MAILTO:reservas@motorextremo.es
END:VEVENT
BEGIN:VEVENT
DTSTART;VALUE=DATE:20240707
DTEND;VALUE=DATE:20240708
DTSTAMP:20260423T184334
CREATED:20240209T113730Z
LAST-MODIFIED:20240209T113730Z
UID:1325-1720310400-1720396799@sensaphoto.com
SUMMARY:Circuito de Almería – MotorExtemo
DESCRIPTION:Evento organizado por la empresa MotorExtremo en el circuito de Almería el día 7 de Julio del 2024.
URL:https://sensaphoto.com/evento/circuito-de-almeria-motorextemo-24/
LOCATION:Circuito de Almeria\, Tabernas\, Almería\, 04200\, España
ATTACH;FMTTYPE=image/jpeg:https://sensaphoto.com/wp-content/uploads/2024/02/JE31821-scaled.jpg
ORGANIZER;CN="Motor Extremo":MAILTO:reservas@motorextremo.es
END:VEVENT
BEGIN:VEVENT
DTSTART;VALUE=DATE:20240706
DTEND;VALUE=DATE:20240707
DTSTAMP:20260423T184334
CREATED:20240209T113609Z
LAST-MODIFIED:20240209T113854Z
UID:1322-1720224000-1720310399@sensaphoto.com
SUMMARY:Circuito de Almería – MotorExtemo
DESCRIPTION:Evento organizado por la empresa MotorExtremo en el circuito de Almería el día 6 de Julio del 2024.
URL:https://sensaphoto.com/evento/circuito-de-almeria-motorextemo-23/
LOCATION:Circuito de Almeria\, Tabernas\, Almería\, 04200\, España
CATEGORIES:Circuitos
ATTACH;FMTTYPE=image/jpeg:https://sensaphoto.com/wp-content/uploads/2024/02/JE36125-scaled.jpg
ORGANIZER;CN="Motor Extremo":MAILTO:reservas@motorextremo.es
END:VEVENT
BEGIN:VEVENT
DTSTART;VALUE=DATE:20240630
DTEND;VALUE=DATE:20240701
DTSTAMP:20260423T184334
CREATED:20240209T113122Z
LAST-MODIFIED:20240209T113122Z
UID:1319-1719705600-1719791999@sensaphoto.com
SUMMARY:Circuito de Almería – MotorExtemo
DESCRIPTION:Evento organizado por la empresa MotorExtremo en el circuito de Almería el día 30 de Junio del 2024.
URL:https://sensaphoto.com/evento/circuito-de-almeria-motorextemo-22/
LOCATION:Circuito de Almeria\, Tabernas\, Almería\, 04200\, España
ATTACH;FMTTYPE=image/jpeg:https://sensaphoto.com/wp-content/uploads/2024/02/JE35611-scaled.jpg
END:VEVENT
BEGIN:VEVENT
DTSTART;VALUE=DATE:20240629
DTEND;VALUE=DATE:20240630
DTSTAMP:20260423T184334
CREATED:20240209T112932Z
LAST-MODIFIED:20240209T112932Z
UID:1316-1719619200-1719705599@sensaphoto.com
SUMMARY:Circuito de Almería – MotorExtemo
DESCRIPTION:Evento organizado por la empresa MotorExtremo en el circuito de Almería el día 29 de Junio del 2024.
URL:https://sensaphoto.com/evento/circuito-de-almeria-motorextemo-21/
LOCATION:Circuito de Almeria\, Tabernas\, Almería\, 04200\, España
ATTACH;FMTTYPE=image/jpeg:https://sensaphoto.com/wp-content/uploads/2024/02/JE38995-scaled.jpg
ORGANIZER;CN="Motor Extremo":MAILTO:reservas@motorextremo.es
END:VEVENT
BEGIN:VEVENT
DTSTART;VALUE=DATE:20240623
DTEND;VALUE=DATE:20240624
DTSTAMP:20260423T184334
CREATED:20240209T112016Z
LAST-MODIFIED:20240209T112227Z
UID:1308-1719100800-1719187199@sensaphoto.com
SUMMARY:Circuito de Andalucía – MotorExtemo
DESCRIPTION:Evento organizado por la empresa MotorExtremo en el circuito de Andalucía el día 23 de Junio del 2024.
URL:https://sensaphoto.com/evento/circuito-de-andalucia-motorextemo-6/
LOCATION:Circuito de Andalucía\, Tabernas\, Almería\, España
CATEGORIES:Circuitos
ATTACH;FMTTYPE=image/jpeg:https://sensaphoto.com/wp-content/uploads/2024/02/JLR5198-scaled.jpg
END:VEVENT
BEGIN:VEVENT
DTSTART;VALUE=DATE:20240623
DTEND;VALUE=DATE:20240624
DTSTAMP:20260423T184334
CREATED:20240209T111255Z
LAST-MODIFIED:20240209T111255Z
UID:1301-1719100800-1719187199@sensaphoto.com
SUMMARY:Circuito de Almería – MotorExtemo
DESCRIPTION:Evento organizado por la empresa MotorExtremo en el circuito de Almería el día 23 de Junio del 2024.
URL:https://sensaphoto.com/evento/circuito-de-almeria-motorextemo-20/
LOCATION:Circuito de Almeria\, Tabernas\, Almería\, 04200\, España
CATEGORIES:Circuitos
ATTACH;FMTTYPE=image/jpeg:https://sensaphoto.com/wp-content/uploads/2024/02/JE37448-scaled.jpg
ORGANIZER;CN="Motor Extremo":MAILTO:reservas@motorextremo.es
END:VEVENT
BEGIN:VEVENT
DTSTART;VALUE=DATE:20240622
DTEND;VALUE=DATE:20240623
DTSTAMP:20260423T184334
CREATED:20240209T112717Z
LAST-MODIFIED:20240209T112717Z
UID:1312-1719014400-1719100799@sensaphoto.com
SUMMARY:Circuito de Cheste – MotorExtemo
DESCRIPTION:Evento organizado por la empresa MotorExtremo en el circuito de Cheste el día 22 de Junio del 2024.
URL:https://sensaphoto.com/evento/circuito-de-cheste-motorextemo/
LOCATION:Circuito de Cheste\, Autovía A3 Valencia-Madrid\, Salida 334.\, Cheste\, Valencia\, 46380\, España
CATEGORIES:Circuitos
ATTACH;FMTTYPE=image/jpeg:https://sensaphoto.com/wp-content/uploads/2024/02/AAE0489-scaled.jpg
ORGANIZER;CN="Motor Extremo":MAILTO:reservas@motorextremo.es
END:VEVENT
BEGIN:VEVENT
DTSTART;VALUE=DATE:20240622
DTEND;VALUE=DATE:20240623
DTSTAMP:20260423T184334
CREATED:20240209T111616Z
LAST-MODIFIED:20240209T111835Z
UID:1304-1719014400-1719100799@sensaphoto.com
SUMMARY:Circuito de Andalucía – MotorExtemo
DESCRIPTION:Evento organizado por la empresa MotorExtremo en el circuito de Andalucía el día 22 de Junio del 2024.
URL:https://sensaphoto.com/evento/circuito-de-andalucia-motorextemo-5/
LOCATION:Circuito de Andalucía\, Tabernas\, Almería\, España
CATEGORIES:Circuitos
ATTACH;FMTTYPE=image/jpeg:https://sensaphoto.com/wp-content/uploads/2024/02/JLR4083-scaled.jpg
ORGANIZER;CN="Motor Extremo":MAILTO:reservas@motorextremo.es
END:VEVENT
BEGIN:VEVENT
DTSTART;VALUE=DATE:20240622
DTEND;VALUE=DATE:20240623
DTSTAMP:20260423T184334
CREATED:20240209T111059Z
LAST-MODIFIED:20240209T111059Z
UID:1298-1719014400-1719100799@sensaphoto.com
SUMMARY:Circuito de Almería – MotorExtemo
DESCRIPTION:Evento organizado por la empresa MotorExtremo en el circuito de Almería el día 22 de Junio del 2024.
URL:https://sensaphoto.com/evento/circuito-de-almeria-motorextemo-19/
LOCATION:Circuito de Almeria\, Tabernas\, Almería\, 04200\, España
ATTACH;FMTTYPE=image/jpeg:https://sensaphoto.com/wp-content/uploads/2024/02/JE35134-scaled.jpg
ORGANIZER;CN="Motor Extremo":MAILTO:reservas@motorextremo.es
END:VEVENT
BEGIN:VEVENT
DTSTART;VALUE=DATE:20240616
DTEND;VALUE=DATE:20240617
DTSTAMP:20260423T184334
CREATED:20240209T015554Z
LAST-MODIFIED:20240209T015554Z
UID:1295-1718496000-1718582399@sensaphoto.com
SUMMARY:Circuito de Almería – MotorExtemo
DESCRIPTION:Evento organizado por la empresa MotorExtremo en el circuito de Almería el día 16 de Junio del 2024.
URL:https://sensaphoto.com/evento/circuito-de-almeria-motorextemo-18/
LOCATION:Circuito de Almeria\, Tabernas\, Almería\, 04200\, España
CATEGORIES:Circuitos
ATTACH;FMTTYPE=image/jpeg:https://sensaphoto.com/wp-content/uploads/2024/02/JE35723-scaled.jpg
ORGANIZER;CN="Motor Extremo":MAILTO:reservas@motorextremo.es
END:VEVENT
BEGIN:VEVENT
DTSTART;VALUE=DATE:20240615
DTEND;VALUE=DATE:20240616
DTSTAMP:20260423T184334
CREATED:20240209T015355Z
LAST-MODIFIED:20240209T015355Z
UID:1292-1718409600-1718495999@sensaphoto.com
SUMMARY:Circuito de Almería – MotorExtemo
DESCRIPTION:Evento organizado por la empresa MotorExtremo en el circuito de Almería el día 15 de Junio del 2024.
URL:https://sensaphoto.com/evento/circuito-de-almeria-motorextemo-17/
LOCATION:Circuito de Almeria\, Tabernas\, Almería\, 04200\, España
ATTACH;FMTTYPE=image/jpeg:https://sensaphoto.com/wp-content/uploads/2024/02/JE34406-scaled.jpg
ORGANIZER;CN="Motor Extremo":MAILTO:reservas@motorextremo.es
END:VEVENT
BEGIN:VEVENT
DTSTART;VALUE=DATE:20240614
DTEND;VALUE=DATE:20240615
DTSTAMP:20260423T184334
CREATED:20240209T015157Z
LAST-MODIFIED:20240209T015157Z
UID:1289-1718323200-1718409599@sensaphoto.com
SUMMARY:Circuito de Almería – MotorExtemo
DESCRIPTION:Evento organizado por la empresa MotorExtremo en el circuito de Almería el día 14 de Junio del 2024.
URL:https://sensaphoto.com/evento/circuito-de-almeria-motorextemo-16/
LOCATION:Circuito de Almeria\, Tabernas\, Almería\, 04200\, España
CATEGORIES:Circuitos
ATTACH;FMTTYPE=image/jpeg:https://sensaphoto.com/wp-content/uploads/2024/02/JE37302-scaled.jpg
ORGANIZER;CN="Motor Extremo":MAILTO:reservas@motorextremo.es
END:VEVENT
BEGIN:VEVENT
DTSTART;VALUE=DATE:20240609
DTEND;VALUE=DATE:20240610
DTSTAMP:20260423T184334
CREATED:20240209T014801Z
LAST-MODIFIED:20240209T014801Z
UID:1284-1717891200-1717977599@sensaphoto.com
SUMMARY:Circuito de Almería – MotorExtemo
DESCRIPTION:Evento organizado por la empresa MotorExtremo en el circuito de Almería el día 9 de Junio del 2024.
URL:https://sensaphoto.com/evento/circuito-de-almeria-motorextemo-14/
LOCATION:Circuito de Almeria\, Tabernas\, Almería\, 04200\, España
ATTACH;FMTTYPE=image/jpeg:https://sensaphoto.com/wp-content/uploads/2024/02/JE33435-scaled.jpg
ORGANIZER;CN="Motor Extremo":MAILTO:reservas@motorextremo.es
END:VEVENT
BEGIN:VEVENT
DTSTART;VALUE=DATE:20240609
DTEND;VALUE=DATE:20240610
DTSTAMP:20260423T184334
CREATED:20240124T163725Z
LAST-MODIFIED:20240124T163725Z
UID:1269-1717891200-1717977599@sensaphoto.com
SUMMARY:Circuito de Sevilla – MotorExtremo
DESCRIPTION:Evento organizado por la empresa MotorExtremo en el circuito de Sevilla el día 9 de Junio de 2024
URL:https://sensaphoto.com/evento/circuito-de-sevilla-motorextremo-7/
LOCATION:Circuito de Sevilla\, Carretera SE-3201\, Carmona\, Sevilla\, 41410\, España
ATTACH;FMTTYPE=image/jpeg:https://sensaphoto.com/wp-content/uploads/2024/01/AAA4656.jpg
ORGANIZER;CN="Motor Extremo":MAILTO:reservas@motorextremo.es
END:VEVENT
BEGIN:VEVENT
DTSTART;VALUE=DATE:20240608
DTEND;VALUE=DATE:20240609
DTSTAMP:20260423T184334
CREATED:20240209T014939Z
LAST-MODIFIED:20240209T014939Z
UID:1287-1717804800-1717891199@sensaphoto.com
SUMMARY:Circuito de Almería – MotorExtemo
DESCRIPTION:Evento organizado por la empresa MotorExtremo en el circuito de Almería el día 8 de Junio del 2024.
URL:https://sensaphoto.com/evento/circuito-de-almeria-motorextemo-15/
LOCATION:Circuito de Almeria\, Tabernas\, Almería\, 04200\, España
CATEGORIES:Circuitos
ATTACH;FMTTYPE=image/jpeg:https://sensaphoto.com/wp-content/uploads/2024/02/JE32147-scaled.jpg
ORGANIZER;CN="Motor Extremo":MAILTO:reservas@motorextremo.es
END:VEVENT
BEGIN:VEVENT
DTSTART;VALUE=DATE:20240608
DTEND;VALUE=DATE:20240609
DTSTAMP:20260423T184334
CREATED:20240124T163529Z
LAST-MODIFIED:20240124T163529Z
UID:1266-1717804800-1717891199@sensaphoto.com
SUMMARY:Circuito de Sevilla – MotorExtremo
DESCRIPTION:Evento organizado por la empresa MotorExtremo en el circuito de Sevilla el día 8 de Junio de 2024
URL:https://sensaphoto.com/evento/circuito-de-sevilla-motorextremo-6/
LOCATION:Circuito de Sevilla\, Carretera SE-3201\, Carmona\, Sevilla\, 41410\, España
ATTACH;FMTTYPE=image/jpeg:https://sensaphoto.com/wp-content/uploads/2024/01/JLR7612-scaled.jpg
END:VEVENT
BEGIN:VEVENT
DTSTART;VALUE=DATE:20240607
DTEND;VALUE=DATE:20240608
DTSTAMP:20260423T184334
CREATED:20240209T014453Z
LAST-MODIFIED:20240209T014453Z
UID:1279-1717718400-1717804799@sensaphoto.com
SUMMARY:Circuito de Almería – MotorExtemo
DESCRIPTION:Evento organizado por la empresa MotorExtremo en el circuito de Almería el día 7 de Junio del 2024.
URL:https://sensaphoto.com/evento/circuito-de-almeria-motorextemo-12/
LOCATION:Circuito de Almeria\, Tabernas\, Almería\, 04200\, España
ATTACH;FMTTYPE=image/jpeg:https://sensaphoto.com/wp-content/uploads/2024/02/JE30942-scaled.jpg
ORGANIZER;CN="Motor Extremo":MAILTO:reservas@motorextremo.es
END:VEVENT
BEGIN:VEVENT
DTSTART;VALUE=DATE:20240607
DTEND;VALUE=DATE:20240608
DTSTAMP:20260423T184334
CREATED:20240124T163331Z
LAST-MODIFIED:20240124T163331Z
UID:1263-1717718400-1717804799@sensaphoto.com
SUMMARY:Circuito de Sevilla – MotorExtremo
DESCRIPTION:Evento organizado por la empresa MotorExtremo en el circuito de Sevilla el día 7 de Junio de 2024
URL:https://sensaphoto.com/evento/circuito-de-sevilla-motorextremo-5/
LOCATION:Circuito de Sevilla\, Carretera SE-3201\, Carmona\, Sevilla\, 41410\, España
ATTACH;FMTTYPE=image/jpeg:https://sensaphoto.com/wp-content/uploads/2024/01/JLR7580-scaled.jpg
ORGANIZER;CN="Motor Extremo":MAILTO:reservas@motorextremo.es
END:VEVENT
END:VCALENDAR