BEGIN:VCALENDAR
VERSION:2.0
PRODID:-//Sensaphoto fotografía deportiva - ECPv6.6.2//NONSGML v1.0//EN
CALSCALE:GREGORIAN
METHOD:PUBLISH
X-WR-CALNAME:Sensaphoto fotografía deportiva
X-ORIGINAL-URL:https://sensaphoto.com
X-WR-CALDESC:Eventos para Sensaphoto fotografía deportiva
REFRESH-INTERVAL;VALUE=DURATION:PT1H
X-Robots-Tag:noindex
X-PUBLISHED-TTL:PT1H
BEGIN:VTIMEZONE
TZID:Europe/Madrid
BEGIN:DAYLIGHT
TZOFFSETFROM:+0100
TZOFFSETTO:+0200
TZNAME:CEST
DTSTART:20250330T010000
END:DAYLIGHT
BEGIN:STANDARD
TZOFFSETFROM:+0200
TZOFFSETTO:+0100
TZNAME:CET
DTSTART:20251026T010000
END:STANDARD
END:VTIMEZONE
BEGIN:VEVENT
DTSTART;TZID=Europe/Madrid:20250704T080000
DTEND;TZID=Europe/Madrid:20250705T170000
DTSTAMP:20260422T005857
CREATED:20250314T100310Z
LAST-MODIFIED:20250314T100310Z
UID:1476-1751616000-1751734800@sensaphoto.com
SUMMARY:Circuito de Cheste – MotorExtemo
DESCRIPTION:Evento organizado por la empresa MotorExtremo en el circuito de Cheste.
URL:https://sensaphoto.com/evento/circuito-de-cheste-motorextemo-2/
LOCATION:Circuito de Cheste\, Autovía A3 Valencia-Madrid\, Salida 334.\, Cheste\, Valencia\, 46380\, España
ORGANIZER;CN="Motor Extremo":MAILTO:reservas@motorextremo.es
END:VEVENT
BEGIN:VEVENT
DTSTART;VALUE=DATE:20250712
DTEND;VALUE=DATE:20250713
DTSTAMP:20260422T005857
CREATED:20250314T100552Z
LAST-MODIFIED:20250314T100552Z
UID:1478-1752278400-1752364799@sensaphoto.com
SUMMARY:Circuito del Jarama – MotorExtemo
DESCRIPTION:Evento organizado por la empresa MotorExtremo en el circuito del Jarama.
URL:https://sensaphoto.com/evento/circuito-del-jarama-motorextemo/
LOCATION:Circuito del Jarama\, Vía de Servicio A-1\, km 28\, San Sebastián de los Reyes\, Madrid\, 28707\, Spain
ORGANIZER;CN="Motor Extremo":MAILTO:reservas@motorextremo.es
END:VEVENT
BEGIN:VEVENT
DTSTART;VALUE=DATE:20250712
DTEND;VALUE=DATE:20250714
DTSTAMP:20260422T005857
CREATED:20250314T100642Z
LAST-MODIFIED:20250314T100642Z
UID:1481-1752278400-1752451199@sensaphoto.com
SUMMARY:Circuito del Almería – MotorExtemo
DESCRIPTION:Evento organizado por la empresa MotorExtremo en el circuito de Almería.
URL:https://sensaphoto.com/evento/circuito-del-almeria-motorextemo/
LOCATION:Circuito de Almeria\, Tabernas\, Almería\, 04200\, España
ORGANIZER;CN="Motor Extremo":MAILTO:reservas@motorextremo.es
END:VEVENT
BEGIN:VEVENT
DTSTART;VALUE=DATE:20250719
DTEND;VALUE=DATE:20250720
DTSTAMP:20260422T005857
CREATED:20250314T100740Z
LAST-MODIFIED:20250314T100740Z
UID:1483-1752883200-1752969599@sensaphoto.com
SUMMARY:Circuito del Motorland – MotorExtemo
DESCRIPTION:Evento organizado por la empresa MotorExtremo en el circuito de Motorland.
URL:https://sensaphoto.com/evento/circuito-del-motorland-motorextemo/
LOCATION:Circuito de Motorland\, Ctra. A-2404\, km 1\, Alcañiz\, Teruel\, 44600
ORGANIZER;CN="Motor Extremo":MAILTO:reservas@motorextremo.es
END:VEVENT
BEGIN:VEVENT
DTSTART;VALUE=DATE:20250719
DTEND;VALUE=DATE:20250721
DTSTAMP:20260422T005857
CREATED:20250314T101049Z
LAST-MODIFIED:20250314T101049Z
UID:1485-1752883200-1753055999@sensaphoto.com
SUMMARY:Circuito del Jerez – SP Racing
DESCRIPTION:Evento organizado por la empresa SP Racing en el circuito de Jerez.
URL:https://sensaphoto.com/evento/circuito-del-jerez-sp-racing/
LOCATION:Circuito de Jerez\, Carretera de Arcos-Jerez de la Frontera\, Km. 10\, Jerez de la Frontera\, Cádiz\, 11405\, España
END:VEVENT
BEGIN:VEVENT
DTSTART;VALUE=DATE:20250725
DTEND;VALUE=DATE:20250726
DTSTAMP:20260422T005857
CREATED:20250314T101156Z
LAST-MODIFIED:20250314T101156Z
UID:1488-1753401600-1753487999@sensaphoto.com
SUMMARY:Circuito de Navarra – SP Racing
DESCRIPTION:Evento organizado por la empresa SP Racing en el circuito de Navarra.
URL:https://sensaphoto.com/evento/circuito-de-navarra-sp-racing/
LOCATION:Circuito de Navarra\, CALLE MALVASIA 5\, LOS ARCOS\, Navarra\, 31210\, España
END:VEVENT
BEGIN:VEVENT
DTSTART;VALUE=DATE:20250726
DTEND;VALUE=DATE:20250728
DTSTAMP:20260422T005857
CREATED:20250314T101259Z
LAST-MODIFIED:20250314T101259Z
UID:1490-1753488000-1753660799@sensaphoto.com
SUMMARY:Circuito de Portimao – MotorExtemo
DESCRIPTION:Evento organizado por la empresa MotorExtremo en el circuito de Portimao.
URL:https://sensaphoto.com/evento/circuito-de-portimao-motorextemo-3/
LOCATION:Circuito de Portimao\, Mexilhoeira Grande\, Portimao\, 8500-148\, Portugal
ORGANIZER;CN="Motor Extremo":MAILTO:reservas@motorextremo.es
END:VEVENT
END:VCALENDAR